BEGIN:VCALENDAR
PRODID:NingEventWidget-v1
VERSION:2.0
METHOD:PUBLISH
BEGIN:VEVENT
UID:1171189:Event:106009
DTSTAMP:20260421T201742Z
SUMMARY:ProfDev: Manage Data with Less Stress
DESCRIPTION:Are you at a nonprofit that's overwhelmed by technology? D
 o you feel like the unimaginable pile of tech you're working with isn'
 t quite paying off with less work? Is it frustrating that even with ex
 tensive data management tools at your disposal, you're not able to eff
 iciently manage or create reports from your data?  \nJoin Socializing
  for Justice for a ProfDev (professional development) training on Data
  Lifecycle Management on Monday, February 3, 6:00 - 8:30 PM.\nFee: $10
  advance/$20 door  Limited space - register ahead of time: www.sojust.
 org  Credit cards accepted online. Cash only at the door (if space ava
 ilable).  Newcomers always welcomed!\n Data Lifecycle Management  More
  and more nonprofits are moving towards more sophisticated data gather
 ing. But for all the rewards of this trend, they run a risk of uninten
 tionally increasing their workload by adding new tools and new reporti
 ng demands that are out of alignment. This is especially true for smal
 l and mid-sized nonprofits who lack a central IT and data management s
 taff to help them design and implement these tools. This training draw
 s on nearly two decades of experience helping real, busy people deal w
 ith large, complex data systems. You'll learn some new ways of thinkin
 g about data lifecycle that can have real impact on your daily workloa
 d and empower you to get what you need out of technology consultants.\
 n ABOUT OUR PRESENTER   Jenn Taylor is the Chief Operating Officer at
  501Partners, which provides Salesforce consulting, implementation, an
 d training exclusively for nonprofits. She has over 20 years of tech e
 xperience in the public sector, higher education, start-ups and nonpro
 fits. She has the experience and passion to help organizations execute
  in a smart and sustainable way. Jenn holds an MBA in Nonprofit Manage
 ment from Brandeis University.\nSCHEDULE  6:00-6:30 Socializing -  br
 ing your own dinner  6:30-8:30 Training and Q&A\n \n\n_______________
 __________________________________________\nSocializing for Justice - 
 www.sojust.org \nSince 2006, we've been building this great sandbox w
 here we can bring progressives of all stripes together and try out new
  ideas in this \"Movement Moment\". Spaces like this are crucial as we
  start to reframe and build new visions for our movement(s).\nSoJust h
 osts events that draw progressives of all stripes that share common va
 lues but may work on different issues. We host monthly socials that al
 low for the possibility of cross-issue connections and run a monthly P
 rofDev Series, hosted by The NonProfit Center*, which provides access 
 to affordable professional development to increase our individual capa
 city for movement building.\nYES, WE MEAN YOU. We've got members of al
 l ages, races, genders, sexual orientations, levels of activism and pr
 ofessions. We hope you see someone like yourself and meet someone you 
 otherwise wouldn't have.\nWant to know more about SoJust? Check out ou
 r  Frequently Asked Questions and  past event photos!\n\nFor more in
 formation visit http://neighborsforneighbors.org/events/profdev-manage
 -data-with-less-stress
DTSTART:20140203T230000Z
DTEND:20140204T020000Z
CATEGORIES:professional, development
LOCATION:NonProfit Center
WEBSITE:http://www.nonprofitcenterboston.org/site/c.ddKGIQNuEmG/b.1363
 373/k.5381/About_Us__Directions.htm
URL:http://www.nonprofitcenterboston.org/site/c.ddKGIQNuEmG/b.1363373/
 k.5381/About_Us__Directions.htm
CONTACT:
ORGANIZER;CN="Socializing for Justice":http://neighborsforneighbors.or
 g/profile/SocializingforJustice71
ATTACH;FMTTYPE="image/jpeg":http://storage.ning.com/topology/rest/1.0/
 file/get/2245142004?profile=original
ATTENDEE;ROLE=REQ-PARTICIPANT;PARTSTAT=ACCEPTED;RSVP=TRUE;CN="Socializ
 ing for Justice":http://neighborsforneighbors.org/profile/Socializingf
 orJustice71
END:VEVENT
END:VCALENDAR
