BEGIN:VCALENDAR
PRODID:NingEventWidget-v1
VERSION:2.0
METHOD:PUBLISH
BEGIN:VEVENT
UID:1171189:Event:69135
DTSTAMP:20260421T195851Z
SUMMARY:Public Meeting on adding Mass Ave. Bike Lanes
DESCRIPTION:The City of Boston is considering adding bike lanes to Mas
 s Ave. between the Harvard Bridge and the Symphony area. On Thursday, 
 April 14 at 7pm there will be a public meeting to gauge public interes
 t for these lanes at the Boston Public Library, Central Branch.\n\nFor
  more information visit http://neighborsforneighbors.org/events/public
 -meeting-on-adding-mass
DTSTART:20110414T230000Z
DTEND:20110415T010000Z
CATEGORIES:public, meeting
LOCATION:Boston Public Library - Copley
WEBSITE:http://www.facebook.com/event.php?eid=123433201065731
URL:http://www.facebook.com/event.php?eid=123433201065731
CONTACT:
ORGANIZER:City of Boston
ATTACH;FMTTYPE="image/jpeg":http://storage.ning.com/topology/rest/1.0/
 file/get/2245132612?profile=original
ATTENDEE;ROLE=REQ-PARTICIPANT;PARTSTAT=ACCEPTED;RSVP=TRUE;CN="Ben Shel
 don":http://neighborsforneighbors.org/profile/BenSheldon
END:VEVENT
END:VCALENDAR
