BEGIN:VCALENDAR
PRODID:NingEventWidget-v1
VERSION:2.0
METHOD:PUBLISH
BEGIN:VEVENT
UID:1171189:Event:87659
DTSTAMP:20260421T164206Z
SUMMARY:Public Safety Meeting
DESCRIPTION:Boston Police, Area E-13 will be having a meeting at 7pm a
 t the Farnsworth House, 90 South St to discuss the attack that occurre
 d at the JP Pond on January 16th.\nCaptain Paul Russell and members of
  the Area E-13 Community Service will be attendence to discuss the inc
 ident and offer safety tips.\n\nFor more information visit http://neig
 hborsforneighbors.org/events/public-safety-meeting
DTSTART:20120120T000000Z
DTEND:20120120T010000Z
CATEGORIES:public, meeting
LOCATION:Farnsworth House
WEBSITE:
URL:
CONTACT:617-343-5624
ORGANIZER;CN="Sgt. Eric Krause":http://neighborsforneighbors.org/profi
 le/SgtEricKrause
ATTACH;FMTTYPE="image/jpeg":
ATTENDEE;ROLE=REQ-PARTICIPANT;PARTSTAT=ACCEPTED;RSVP=TRUE;CN="Sgt. Eri
 c Krause":http://neighborsforneighbors.org/profile/SgtEricKrause
END:VEVENT
END:VCALENDAR
