BEGIN:VCALENDAR
PRODID:NingEventWidget-v1
VERSION:2.0
METHOD:PUBLISH
BEGIN:VEVENT
UID:1171189:Event:118030
DTSTAMP:20260421T214901Z
SUMMARY:QuickBooks Basics - Intensive (4-weeks) – CWE Eastern MA –
  Oct 27-Nov 17
DESCRIPTION:Keeping track of your business's finances can be complicat
 ed, but a systematic approach with QuickBooks can make a world of diff
 erence. In this 4-week intensive series, participants will learn the 
 basics of navigating the QuickBooks program and have the opportunity t
 o practice using it in real-time. Both beginners and those business ow
 ners looking for a refresher course will find this class helpful. Dur
 ing the 4-weeks, the course will cover:\n\nSetting up and maintaining 
 a financial and bookkeeping system using QuickBooks\nUnderstanding you
 r company's basic financial statements and terms\nUnderstanding key re
 porting features of QuickBooks that are needed to make day-to-day\nfin
 ancial decisions\nCommon features including invoicing, entering and pa
 ying bills, entering credit card\ntransactions, managing loans\n\nPart
 icipants are welcome to bring their own laptops with QuickBooks or use
  a trial version of QuickBooks. We will have laptops available for att
 endees with QuickBooks Pro 13. The fundamentals taught in this class c
 an be applied to all versions of QuickBooks, including QuickBooks for 
 MAC or QuickBooks Online.\nWhen: Thursdays, October 27, November 3, 10
  and 17 from 1:00pm to 3:00pm Where: CWE Eastern MA24 School Street 
 7th FloorBoston, MA 02108\nFee: $195. Must register to attend. Partial
  Scholarships may be available to those who qualify.\n \n\nFor more i
 nformation visit http://neighborsforneighbors.org/events/quickbooks-ba
 sics-intensive-4-weeks-cwe-eastern-ma-oct-27-nov-17
DTSTART:20161027T170000Z
DTEND:20161027T190000Z
CATEGORIES:training
LOCATION:CWE Eastern MA
WEBSITE:http://www.cweonline.org/NewsEvents/ViewArticle/tabid/164/Arti
 cleId/1849/QuickBooks-Basics-Intensive-4-weeks-CWE-Eastern-MA-Oct-27-N
 ov-17.aspx
URL:http://www.cweonline.org/NewsEvents/ViewArticle/tabid/164/ArticleI
 d/1849/QuickBooks-Basics-Intensive-4-weeks-CWE-Eastern-MA-Oct-27-Nov-1
 7.aspx
CONTACT:617-532-0225
ORGANIZER:Madeleine Lutts
ATTACH;FMTTYPE="image/jpeg":
ATTENDEE;ROLE=REQ-PARTICIPANT;PARTSTAT=ACCEPTED;RSVP=TRUE;CN="Monica F
 aberman":http://neighborsforneighbors.org/profile/MonicaFaberman
END:VEVENT
END:VCALENDAR
