BEGIN:VCALENDAR
PRODID:NingEventWidget-v1
VERSION:2.0
METHOD:PUBLISH
BEGIN:VEVENT
UID:1171189:Event:54761
DTSTAMP:20260421T220621Z
SUMMARY:RAD - Basic Self Defense Course for Women
DESCRIPTION:The R.A.D. Systems of Self-Defense are the official self-d
 efense training programs of the National Academy of Defense Education.
  The (RAD) Rape Aggression Defense System is a program of realistic se
 lf-defense tactics and techniques for women. The R.A.D. System is a co
 mprehensive, women-only course that begins with risk awareness, risk r
 eduction, risk recognition, and risk avoidance, while progressing on t
 o the basics of hands-on defense training. R.A.D. is not a Martial Art
 s program.\n\nThe Boston Police Area E-13 Community Service Office off
 ers a RAD course using certified instructors. The course is free of ch
 arge. If you are interested in taking the course, please contact Elisa
  Reid, or P.O. Antonette Ramsay at 617-343-5624. The next course dates
  are October 27th, November 1st, 3rd and 8th from 5:30PM-8PM at the Fa
 ulkner Hospital, 1153 Centre St, Jamaica Plain. Contact our office for
  more details\n\nFor more information visit http://neighborsforneighbo
 rs.org/events/rad-basic-self-defense-course-1
DTSTART:20101027T213000Z
DTEND:20101028T000000Z
CATEGORIES:self, defense, training
LOCATION:Faulkner Hospital
WEBSITE:
URL:
CONTACT:617-343-5624
ORGANIZER;CN="Sgt. Eric Krause":http://neighborsforneighbors.org/profi
 le/SgtEricKrause
ATTACH;FMTTYPE="image/jpeg":http://storage.ning.com/topology/rest/1.0/
 file/get/2245118521?profile=original
ATTENDEE;ROLE=REQ-PARTICIPANT;PARTSTAT=ACCEPTED;RSVP=TRUE;CN="Sgt. Eri
 c Krause":http://neighborsforneighbors.org/profile/SgtEricKrause
END:VEVENT
END:VCALENDAR
