BEGIN:VCALENDAR
PRODID:NingEventWidget-v1
VERSION:2.0
METHOD:PUBLISH
BEGIN:VEVENT
UID:1171189:Event:64941
DTSTAMP:20260421T202900Z
SUMMARY:RAD - Basic Self Defense Course fo Women
DESCRIPTION:The R.A.D. Systems of Self-Defense are the official self-d
 efense training programs of the National Academy of Defense Education.
  The (RAD) Rape Aggression Defense System is a program of realistic se
 lf-defense tactics and techniques for women. The R.A.D. System is a co
 mprehensive, women-only course that begins with risk awareness, risk r
 eduction, risk recognition, and risk avoidance, while progressing on t
 o the basics of hands-on defense training.  R.A.D. is not a Martial A
 rts program.\n \nThe Boston Police Area E-13 Community Service Office
  offers a RAD course using certified RAD instructors. It is free of ch
 arge.  Please contact Elisa Reid at 617-343-5624 to sign up for the c
 ourse.  \n \nNext course dates:  February 21st, 23rd, 28th and Marc
 h 2nd from 5:30 to 8:00 at Brookside Community Health Center, 3297 Was
 hington Street, Jamaica Plain.\n \n \n“Empowering Women Through Se
 lf Defense”\n\nFor more information visit http://neighborsforneighbo
 rs.org/events/rad-basic-self-defense-course-2
DTSTART:20110221T223000Z
DTEND:20110222T010000Z
CATEGORIES:self, defense, training
LOCATION:Brookside Community Health Center
WEBSITE:http://www.bpdnews.com/districts/e-13
URL:http://www.bpdnews.com/districts/e-13
CONTACT:
ORGANIZER;CN="Sgt. Eric Krause":http://neighborsforneighbors.org/profi
 le/SgtEricKrause
ATTACH;FMTTYPE="image/jpeg":http://storage.ning.com/topology/rest/1.0/
 file/get/2245118521?profile=original
ATTENDEE;ROLE=REQ-PARTICIPANT;PARTSTAT=ACCEPTED;RSVP=TRUE;CN="Sgt. Eri
 c Krause":http://neighborsforneighbors.org/profile/SgtEricKrause
END:VEVENT
END:VCALENDAR
