BEGIN:VCALENDAR
PRODID:NingEventWidget-v1
VERSION:2.0
METHOD:PUBLISH
BEGIN:VEVENT
UID:1171189:Event:88921
DTSTAMP:20260421T163910Z
SUMMARY:RAD Basic Self-Defense Course For Women
DESCRIPTION:The RAD System is a comprehensive, women-only course that 
 begins with risk awareness, risk reduction, risk recognition and risk 
 avoidance, while progressing on to the basics of hands-on defense trai
 ning. \nThe course dates are Mondays on April 2, 9, 16 and 23 from 6:
 00pm-8:30pm at the VA Hospital, 150 S Huntington Ave.\n \nContact Eli
 sa Reid at 617-343-5624 to register.  Reide.bpd@cityofboston.gov\n\nF
 or more information visit http://neighborsforneighbors.org/events/rad-
 basic-self-defense-course-for-women-1
DTSTART:20120402T220000Z
DTEND:20120403T003000Z
CATEGORIES:self, defense, training
LOCATION:VA Hospital
WEBSITE:
URL:
CONTACT:617-343-5624
ORGANIZER;CN="Sgt. Eric Krause":http://neighborsforneighbors.org/profi
 le/SgtEricKrause
ATTACH;FMTTYPE="image/jpeg":
ATTENDEE;ROLE=REQ-PARTICIPANT;PARTSTAT=ACCEPTED;RSVP=TRUE;CN="Sgt. Eri
 c Krause":http://neighborsforneighbors.org/profile/SgtEricKrause
END:VEVENT
END:VCALENDAR
