BEGIN:VCALENDAR
PRODID:NingEventWidget-v1
VERSION:2.0
METHOD:PUBLISH
BEGIN:VEVENT
UID:1171189:Event:87243
DTSTAMP:20260421T163840Z
SUMMARY:RAD Basic Self-Defense Training for Women
DESCRIPTION:RAD Basic Self-Defense Course for Women\n\nNext course dat
 es:  Jan 30th, Feb 6th, 13th, and 15th\n6pm-8:30pm at Curtis Hall, 20
  South St.\n\nContact Elisa Reid at 617-343-5624 if interested.\n\nFor
  more information visit http://neighborsforneighbors.org/events/rad-ba
 sic-self-defense-training-for-women
DTSTART:20120130T230000Z
DTEND:20120131T013000Z
CATEGORIES:self-defense, course
LOCATION:Curtis Hall
WEBSITE:
URL:
CONTACT:617-343-5624
ORGANIZER;CN="Sgt. Eric Krause":http://neighborsforneighbors.org/profi
 le/SgtEricKrause
ATTACH;FMTTYPE="image/jpeg":http://storage.ning.com/topology/rest/1.0/
 file/get/2245137353?profile=original
ATTENDEE;ROLE=REQ-PARTICIPANT;PARTSTAT=ACCEPTED;RSVP=TRUE;CN="Sgt. Eri
 c Krause":http://neighborsforneighbors.org/profile/SgtEricKrause
END:VEVENT
END:VCALENDAR
