BEGIN:VCALENDAR
PRODID:NingEventWidget-v1
VERSION:2.0
METHOD:PUBLISH
BEGIN:VEVENT
UID:1171189:Event:38421
DTSTAMP:20260421T163756Z
SUMMARY:Raffle - Win A Bicycle! Support JP Youth Programs!
DESCRIPTION:Help send local youth to summer camp! Buy raffle tickets a
 t Ferris Wheels Bike Shop this weekend and you could win the Grand Pri
 ze: a bicycle* from Ferris Wheels! One ticket for $1; six tickets for 
 $5.\n\nOther prizes include: $25 Gift Certificate to City Feed And Sup
 ply; $250 to play pool at Jillian's; $25 Gift Certificate to Real Deal
 ; a handmade necklace from OnCentre; $50 Gift Certificate to Classic C
 leaners, and MORE!\n\nDRAWING IS MONDAY, MARCH 22nd!\n\nAll proceeds b
 enefits the SUN program at Southern Jamaica Plain Health Center. Last 
 year they helped 200 families go to summer camp. Questions? Call 617-9
 83-4294.\n\n*Bicycle of your choice, up to $450 wholesale value.\n\nFo
 r more information visit http://neighborsforneighbors.org/events/raffl
 e-win-a-bicycle-support
DTSTART:20100319T130000Z
DTEND:20100321T200000Z
CATEGORIES:fundraiser
LOCATION:Ferris Wheels Bike Shop
WEBSITE:http://www.ferriswheelsbikeshop.com
URL:http://www.ferriswheelsbikeshop.com
CONTACT:617-524-2453
ORGANIZER:Southern Jamaica Plain Health Center
ATTACH;FMTTYPE="image/jpeg":
ATTENDEE;ROLE=REQ-PARTICIPANT;PARTSTAT=ACCEPTED;RSVP=TRUE;CN="Ferris W
 heels Bike Shop":http://neighborsforneighbors.org/profile/FerrisWheels
 BikeShop
END:VEVENT
END:VCALENDAR
