BEGIN:VCALENDAR
PRODID:NingEventWidget-v1
VERSION:2.0
METHOD:PUBLISH
BEGIN:VEVENT
UID:1171189:Event:47420
DTSTAMP:20260421T181931Z
SUMMARY:Raised Bed Garden Workshop
DESCRIPTION:Worried about growing food in possibly contaminated soil? 
 Don't think you even have enough space to grow in?\n\nThen this worksh
 op is for you! Join us to learn how to build a raised bed for gardenin
 g, or even why building beds is beneficial. The workshop is free, ever
 yone is invited, and no supplies are needed. Feel free to bring a frie
 nd too!\n\nFor more information visit http://neighborsforneighbors.org
 /events/raised-bed-garden-workshop
DTSTART:20100701T220000Z
DTEND:20100702T000000Z
CATEGORIES:workshop
LOCATION:Pueblo Boston
WEBSITE:http://puebloboston.org
URL:http://puebloboston.org
CONTACT:melissa.l.moore81@gmail.com
ORGANIZER;CN="Melissa Moore":http://neighborsforneighbors.org/profile/
 MelissaMoore
ATTACH;FMTTYPE="image/jpeg":http://storage.ning.com/topology/rest/1.0/
 file/get/2245130557?profile=original
ATTENDEE;ROLE=REQ-PARTICIPANT;PARTSTAT=ACCEPTED;RSVP=TRUE;CN="Melissa 
 Moore":http://neighborsforneighbors.org/profile/MelissaMoore
END:VEVENT
END:VCALENDAR
