BEGIN:VCALENDAR
PRODID:NingEventWidget-v1
VERSION:2.0
METHOD:PUBLISH
BEGIN:VEVENT
UID:1171189:Event:81791
DTSTAMP:20260421T214750Z
SUMMARY:RALLY FOR A MOVING PLANET!
DESCRIPTION:DATE: Saturday, September 24TIME: 3-6 PM (DSA gathers 2:45
  at Park St Station)PLACE: Park St. T; March to Waterfront Park (Aquar
 ium T)DSA Members and friends will gather at 2:45 Park St. Station (Re
 d Line,Boston) and march together to the rally.Join us on this interna
 tional day of action, spearheaded by 350.org, toconfront the climate c
 risis by urging our country and world to \"get moving\"beyond environm
 entally destructive fossil fuel economies.Moving Planet (www.moving-ne
 wengland.org) will bring together advocates fromall corners of New Eng
 land for renewable energy, alternative transportation,conservation and
  biological restoration; Boston is one of 5 U.S. citieswhere regional 
 rallies will take place.  It all begins at 3:50 pm atColumbusWaterfro
 nt Park, but will be preceded by various feeder marches\n\nFor more in
 formation visit http://neighborsforneighbors.org/events/rally-for-a-mo
 ving-planet
DTSTART:20110924T190000Z
DTEND:20110924T220000Z
CATEGORIES:rally
LOCATION:Columbus Waterfront Park
WEBSITE:
URL:
CONTACT:
ORGANIZER;CN="Aria Littlhous":http://neighborsforneighbors.org/profile
 /AriaLittlhous
ATTACH;FMTTYPE="image/jpeg":
ATTENDEE;ROLE=REQ-PARTICIPANT;PARTSTAT=ACCEPTED;RSVP=TRUE;CN="Aria Lit
 tlhous":http://neighborsforneighbors.org/profile/AriaLittlhous
END:VEVENT
END:VCALENDAR
