BEGIN:VCALENDAR
PRODID:NingEventWidget-v1
VERSION:2.0
METHOD:PUBLISH
BEGIN:VEVENT
UID:1171189:Event:78880
DTSTAMP:20260421T203900Z
SUMMARY:Recess for Justice
DESCRIPTION:In June this annual fave got rained out, so we're reschedu
 ling it just before school starts.\n \nRecess for Justice is going do
 wn at the Stony Brook court right off Lamartine Street in JP on Saturd
 ay, August 20th, from 11:00AM. (Exit Stony Brook T station on the Oran
 ge line, walk directly across the street to the park - we'll be on the
  field and in the courts right in front of you.) We’re hoping for a 
 sunny summer day!\n \nBring your favorite outdoor game or check out t
 he assortment of fun we'll have on hand: Frisbees, kickball & chalk (f
 or 4-square!), jump rope, basketball, softball (bring a glove) and wha
 tever other randomness we can think of. If it's hot we can run through
  the fountain sprinkler to cool off.  Around 1pm, we'll likely get ou
 t of the heat by going to Ula Cafe for lunch.\nCheck out the photos fr
 om previous Recess for Justice events in 2007, 2008, and 2009 at http:
 //www.sojust.org/photos/685627/!\n \nRSVP at http://www.sojust.org - 
 Newcomers always welcomed!\n \nFee: $2 cash.\n \nSo look no further 
 if you want to cross-promote your events and campaigns while perfectin
 g your Frisbee forehand, you're seeking like-minded progressives to ha
 ng out with in Boston, or are new to the area and looking for groups t
 o get involved in. At Socializing for Justice (SoJust) events you can 
 hang out with friends, make new ones, find a date, get the scoop on a 
 job, and find out what's going on this weekend - political or social. 
 And the best part is that SoJust members share your vision of building
  a more just world. \n_______________________________________________
 __________\nSocializing for Justice - http://sojust.org\nSince 2006, w
 e've been building this great sandbox where we can bring progressives 
 of all stripes together and try out new ideas in this \"Movement Momen
 t\". Spaces like this are crucial as we start to reframe and build new
  visions for our movement(s).\n \nWith over 1800 members and almost 5
  years of creating a diverse cross-issue community in Boston (100+ eve
 nts!), Socializing for Justice is the best place to find the great peo
 ple, organizations and community you're looking for while putting the 
 SOCIAL back in social justice.\n \nWanna know more about SoJust? Chec
 k out our Frequently Asked Questions and past event photos on http://s
 ojust.org.\n \nFollow us on Twitter: http://twitter.com/sojust and ht
 tp://twitter.com/Robbiesamuels.\n\nFor more information visit http://n
 eighborsforneighbors.org/events/recess-for-justice-1
DTSTART:20110820T150000Z
DTEND:20110820T173000Z
CATEGORIES:"networking/social"
LOCATION:Southwest Corridor Park
WEBSITE:http://maps.google.com/maps?q=100+Boylston+Street+at+180+Lamar
 tine+Street%2C+Jamaica+Plain%2C+MA
URL:http://maps.google.com/maps?q=100+Boylston+Street+at+180+Lamartine
 +Street%2C+Jamaica+Plain%2C+MA
CONTACT:
ORGANIZER;CN="Socializing for Justice":http://neighborsforneighbors.or
 g/profile/SocializingforJustice71
ATTACH;FMTTYPE="image/jpeg":http://storage.ning.com/topology/rest/1.0/
 file/get/2245132844?profile=original
ATTENDEE;ROLE=REQ-PARTICIPANT;PARTSTAT=ACCEPTED;RSVP=TRUE;CN="Socializ
 ing for Justice":http://neighborsforneighbors.org/profile/Socializingf
 orJustice71
END:VEVENT
END:VCALENDAR
