BEGIN:VCALENDAR
PRODID:NingEventWidget-v1
VERSION:2.0
METHOD:PUBLISH
BEGIN:VEVENT
UID:1171189:Event:74455
DTSTAMP:20260421T214627Z
SUMMARY:Recess for Justice
DESCRIPTION:Recess for Justice is going down at the Stony Brook court 
 right off Lamartine Street in JP on Saturday, June 25, from 11:00AM. (
 Exit Stony Brook T station on the Orange line, walk directly across th
 e street to the park - we'll be on the field and in the courts right i
 n front of you.) We can't wait for sunny days of summer!Bring your fav
 orite outdoor game or check out the assortment of fun we'll have on ha
 nd: Frisbees, kickball & chalk (for 4-square!), jump rope, basketball,
  softball (bring a glove) and whatever other randomness we can think o
 f. If it's hot we can run through the fountain sprinkler to cool off. 
  Around 1pm, we'll likely get out of the heat by going to Ula Cafe fo
 r lunch.Check out the photos from previous Recess for Justice events i
 n 2007, 2008, and 2009 on the website!RSVP at http://www.sojust.org - 
 Newcomers always welcomed!Fee: $2 cash.So look no further if you want 
 to cross-promote your events and campaigns while perfecting your Frisb
 ee forehand, you're seeking like-minded progressives to hang out with 
 in Boston, or are new to the area and looking for groups to get involv
 ed in. At Socializing for Justice (SoJust) events you can hang out wit
 h friends, make new ones, find a date, get the scoop on a job, and fin
 d out what's going on this weekend - political or social. And the best
  part is that SoJust members share your vision of building a more just
  world. _________________________________________________________Socia
 lizing for Justice - http://sojust.orgSince 2006, we've been building 
 this great sandbox where we can bring progressives of all stripes toge
 ther and try out new ideas in this \"Movement Moment\". Spaces like th
 is are crucial as we start to reframe and build new visions for our mo
 vement(s).With over 1750 members and 4 1/2 years of creating a diverse
  cross-issue community in Boston (90+ events!), Socializing for Justic
 e is the best place to find the great people, organizations and commun
 ity you're looking for while putting the SOCIAL back in social justice
 .Wanna know more about SoJust? Check out our Frequently Asked Question
 s and past event photos on http://sojust.org.Follow us on Twitter: htt
 p://twitter.com/sojust and http://twitter.com/Robbiesamuels.\n\nFor mo
 re information visit http://neighborsforneighbors.org/events/recess-fo
 r-justice
DTSTART:20110625T150000Z
DTEND:20110625T170000Z
CATEGORIES:outdoor, social
LOCATION:Southwest Corridor Park at Stony Brook Station
WEBSITE:http://www.sojust.org
URL:http://www.sojust.org
CONTACT:
ORGANIZER;CN="Socializing for Justice":http://neighborsforneighbors.or
 g/profile/SocializingforJustice71
ATTACH;FMTTYPE="image/jpeg":http://storage.ning.com/topology/rest/1.0/
 file/get/2245132844?profile=original
ATTENDEE;ROLE=REQ-PARTICIPANT;PARTSTAT=ACCEPTED;RSVP=TRUE;CN="Socializ
 ing for Justice":http://neighborsforneighbors.org/profile/Socializingf
 orJustice71
END:VEVENT
END:VCALENDAR
