BEGIN:VCALENDAR
PRODID:NingEventWidget-v1
VERSION:2.0
METHOD:PUBLISH
BEGIN:VEVENT
UID:1171189:Event:64767
DTSTAMP:20260421T194032Z
SUMMARY:Reddit meetup
DESCRIPTION:Join members of the Boston reddit group for some drinks an
 d Internet nerd talk.\n\nFor more information visit http://neighborsfo
 rneighbors.org/events/reddit-meetup
DTSTART:20110224T000000Z
DTEND:20110224T043000Z
CATEGORIES:meetup
LOCATION:JJ Foley's Fireside Tavern
WEBSITE:
URL:
CONTACT:
ORGANIZER;CN="Matt Lee":http://neighborsforneighbors.org/profile/mattl
ATTACH;FMTTYPE="image/jpeg":http://storage.ning.com/topology/rest/1.0/
 file/get/2245132039?profile=original
ATTENDEE;ROLE=REQ-PARTICIPANT;PARTSTAT=ACCEPTED;RSVP=TRUE;CN="Matt Lee
 ":http://neighborsforneighbors.org/profile/mattl
END:VEVENT
END:VCALENDAR
