BEGIN:VCALENDAR
PRODID:NingEventWidget-v1
VERSION:2.0
METHOD:PUBLISH
BEGIN:VEVENT
UID:1171189:Event:88218
DTSTAMP:20260421T164402Z
SUMMARY:Reducing Your Odds of Becoming the Victim of a Crime
DESCRIPTION:This seminar is designed to teach individuals how to decre
 ase their chances of becoming a victim of crime.\nYou will pay particu
 lar attention to real world examples and experiences to help you keep 
 safe.\nEveryone is encouraged to attend!\nSpecial Guest:    Sgt Gar
 y Eblan                                
        Boston Police Academy. \n\nFor more information visit ht
 tp://neighborsforneighbors.org/events/reducing-your-odds-of-becoming-t
 he-victim-of-a-crime
DTSTART:20120207T233000Z
DTEND:20120208T010000Z
CATEGORIES:public, meeting
LOCATION:Curtis Hall
WEBSITE:
URL:
CONTACT:617-343-5624
ORGANIZER:Area E-13 Community Service Office
ATTACH;FMTTYPE="image/jpeg":
ATTENDEE;ROLE=REQ-PARTICIPANT;PARTSTAT=ACCEPTED;RSVP=TRUE;CN="Sgt. Eri
 c Krause":http://neighborsforneighbors.org/profile/SgtEricKrause
END:VEVENT
END:VCALENDAR
