BEGIN:VCALENDAR
PRODID:NingEventWidget-v1
VERSION:2.0
METHOD:PUBLISH
BEGIN:VEVENT
UID:1171189:Event:60061
DTSTAMP:20260421T200000Z
SUMMARY:Reggae Dance Party
DESCRIPTION:On Wednesday, December 29 roll out to the Milky Way Lounge
  in Jamaica\nPlain for a reggae dance party you will never forget! Fro
 m vintage hits\nlike Desmond Dekcer's \"Israelites,\" all the way to T
 arruss Riley's\nlatest release, come out to the Milky Way for a night 
 of great music.\nSelector Jah Rich and Progressive Youth Sound will sp
 in one crucial\nreggae selection after the next! Reggae artists Jah Pi
 lot and D!Arryval\nwill also perform and entertain the crowd. Admissio
 n is free, there's\nplenty of parking, and vibes will be total nicenes
 s! Shout out to the\nJP/Boston bike couriers and crews - come and repr
 esent!\n\nFor more information visit http://neighborsforneighbors.org/
 events/reggae-dance-party
DTSTART:20101230T020000Z
DTEND:20101230T050000Z
CATEGORIES:reggae, dance, party
LOCATION:Milky Way Lounge
WEBSITE:http://www.milkywayjp.com
URL:http://www.milkywayjp.com
CONTACT:617-524-3740
ORGANIZER;CN="Carol Downs":http://neighborsforneighbors.org/profile/Ca
 rolDowns
ATTACH;FMTTYPE="image/jpeg":http://storage.ning.com/topology/rest/1.0/
 file/get/2245131762?profile=original
ATTENDEE;ROLE=REQ-PARTICIPANT;PARTSTAT=ACCEPTED;RSVP=TRUE;CN="Carol Do
 wns":http://neighborsforneighbors.org/profile/CarolDowns
END:VEVENT
END:VCALENDAR
