BEGIN:VCALENDAR
PRODID:NingEventWidget-v1
VERSION:2.0
METHOD:PUBLISH
BEGIN:VEVENT
UID:1171189:Event:32149
DTSTAMP:20260421T204029Z
SUMMARY:Relay For Life of Boston KICKOFF PARTY
DESCRIPTION:Let's start the fun NOW! Get ready to RELAY!\n\nJoin us to
  Kickoff the 2010 Relay For Life of BOSTON:\n\nWhen: Wednesday, Februa
 ry 10 at 7 PM\nWhere: Big City, 138 Brighton Ave. in Allston\nWhy: To 
 FIGHT BACK against cancer!\n\nFREE pizza & pool! All who attend will b
 e entered in a prize drawing for a pair of CELTICS TICKETS (must be pr
 esent to win)!! Don't miss out!\n\nCome learn how you can help create 
 a world with more birthdays!\n\nwww.RelayForLife.org/BostonMA\n\nHave 
 questions? Need more info?\n\nEmail Jay Wayshak at Joseph.Wayshak@stat
 estreet.com, or Amanda Starkel at Amanda.Starkel@cancer.org.\n\nFor mo
 re information visit http://neighborsforneighbors.org/events/relay-for
 -life-of-boston-1
DTSTART:20100211T000000Z
DTEND:20100211T020000Z
CATEGORIES:charity, party, social
LOCATION:Big City
WEBSITE:http://www.allstonsfinest.com/
URL:http://www.allstonsfinest.com/
CONTACT:781.314.2623
ORGANIZER;CN="Amanda Starkel":http://neighborsforneighbors.org/profile
 /AmandaStarkel
ATTACH;FMTTYPE="image/jpeg":http://storage.ning.com/topology/rest/1.0/
 file/get/2245120987?profile=original
ATTENDEE;ROLE=REQ-PARTICIPANT;PARTSTAT=ACCEPTED;RSVP=TRUE;CN="Amanda S
 tarkel":http://neighborsforneighbors.org/profile/AmandaStarkel
END:VEVENT
END:VCALENDAR
