BEGIN:VCALENDAR
PRODID:NingEventWidget-v1
VERSION:2.0
METHOD:PUBLISH
BEGIN:VEVENT
UID:1171189:Event:52832
DTSTAMP:20260421T194032Z
SUMMARY:Restraints & Passages two one-acts
DESCRIPTION:This double-bill offers a rare opportunity to see three in
 ternational theatre artists in a richly imaginative evening of theater
 . Jola Cynkutis of Poland, Khalid Tyabji of India and Diane Edgecomb o
 f Boston (Jamaica Plain!) will present two one-act pieces strongly inf
 luenced by Zbigniew Cynkutis, one of the principal members of Grotowsk
 i's Teatr Laboratorium of Poland. The Teatr Laboratorium created a rev
 olution in theatre by eschewing narrative text and scenic elements in 
 favor of startling physical and vocal imagery rooted in the actor's ps
 yche. Through evocative images, movement, text and songs Restraints an
 d Passages enchant and challenge audiences while exploring universal t
 hemes.\nSeptember 16 - 19, 2010\nThursday, Friday, and Saturday at 8pm
 \nSunday at 4pm\n\nAt Charlestown Working Theater, 442 Bunker Hill Str
 eet, Charlestown, MA 02129\n617-242-3285\n\nTickets $25 Students $20\n
 \nFor more information visit http://neighborsforneighbors.org/events/r
 estraints-passages-two
DTSTART:20100919T200000Z
DTEND:20100919T220000Z
CATEGORIES:alternative, theatre
LOCATION:Charlestown Working Theater
WEBSITE:http://www.charlestownworkingtheater.org/restraints_passages.c
 fm
URL:http://www.charlestownworkingtheater.org/restraints_passages.cfm
CONTACT:
ORGANIZER;CN="Diane Edgecomb":http://neighborsforneighbors.org/profile
 /DianeEdgecomb
ATTACH;FMTTYPE="image/jpeg":http://storage.ning.com/topology/rest/1.0/
 file/get/2245130650?profile=original
ATTENDEE;ROLE=REQ-PARTICIPANT;PARTSTAT=ACCEPTED;RSVP=TRUE;CN="Diane Ed
 gecomb":http://neighborsforneighbors.org/profile/DianeEdgecomb
END:VEVENT
END:VCALENDAR
