BEGIN:VCALENDAR
PRODID:NingEventWidget-v1
VERSION:2.0
METHOD:PUBLISH
BEGIN:VEVENT
UID:1171189:Event:88443
DTSTAMP:20260421T182440Z
SUMMARY:return to STUDIO 54 discotheque dance party w/BODEGA GIRLS & D
 J COLBOURNE
DESCRIPTION:Bella Luna Restaurant & Milky Way Lounge take you back to 
 the best '70s dance party this Valentines weekend   - STUDIO 54 discot
 eque dance party -  featuring:   BODEGA GIRLS- \"a band of tricksters
 , hedonists and good-for-nothings whose morals defy even the most perv
 erted of human beings.\" - performing live era-appropriate covers and 
 originals.  &  DJ COLBOURNE(foxy, mirrorshades, mr. goodbar) - spinni
 ng all the best disco & boogie tunes.  9:00 doors || $8 || 21+\n\nFor 
 more information visit http://neighborsforneighbors.org/events/return-
 to-studio-54-discotheque-dance-party-w-bodega-girls-dj
DTSTART:20120202T230000Z
DTEND:20120203T000000Z
CATEGORIES:dance, party, live, band, dj, "1970's", disco, boogie
LOCATION:Bella Luna Restaurant & Milky Way Lounge
WEBSITE:http://www.milkywayjp.com
URL:http://www.milkywayjp.com
CONTACT:617-524-6060
ORGANIZER:Justin Emile
ATTACH;FMTTYPE="image/jpeg":http://storage.ning.com/topology/rest/1.0/
 file/get/2245138483?profile=original
ATTENDEE;ROLE=REQ-PARTICIPANT;PARTSTAT=ACCEPTED;RSVP=TRUE;CN="Carol Do
 wns":http://neighborsforneighbors.org/profile/CarolDowns
END:VEVENT
END:VCALENDAR
