BEGIN:VCALENDAR
PRODID:NingEventWidget-v1
VERSION:2.0
METHOD:PUBLISH
BEGIN:VEVENT
UID:1171189:Event:64607
DTSTAMP:20260421T203208Z
SUMMARY:Reunion de la comunidad para discutir la llegada de Whole Food
 s
DESCRIPTION:Jamaica Plain Neighborhood Council y Hyde Jackson Square M
 ain Street te invitan a una reunión comunitaria donde se discutirará
  el signaficado que tiene la llegada del supermecado Whole Foods para 
 los vecindarios de JP y Hyde/Jackson.\n \nMartes, 8 de Febrero, 7pm\n
 Kennedy Elementary School – 7 Bolster Street\n \nEsta será una re
 unión preliminar para que los miembros de la comunidad compartan sus 
 ideas y preocupaciones en relación a los planes de abrir una sucursal
  de la cadena de supermercados Whole Foods en Hyde Square.   Este es
  tu chance de expresar tu pensamiento y exponer tus preguntas para que
  estas puedan ser presentadas a la administración ejecutiva de Whole 
 Foods.\nLa reunión será facilitada en ingles y español.\n \nCo-pat
 rocinadores de esta reunión incluyen:\nHyde Square Task Force • Ja
 maica Plain Neighborhood Development Corporation • City Councilor M
 att O’Malley • City Councilor Felix Arroyo • State Representati
 ve Jeffrey Sanchez\n \nPreguntas? Necesita mas información? Contacte
  el Jamaica Plain Neighborhood Council: info.jpnc@gmail.com.\n\nFor mo
 re information visit http://neighborsforneighbors.org/events/reunion-d
 e-la-comunidad-para
DTSTART:20110209T000000Z
DTEND:20110209T020000Z
CATEGORIES:"meeting/community", forum
LOCATION:Kennedy Elementary School auditorium
WEBSITE:http://jpnc.org
URL:http://jpnc.org
CONTACT:
ORGANIZER;CN="Dave Demerjian":http://neighborsforneighbors.org/profile
 /DaveDemerjian
ATTACH;FMTTYPE="image/jpeg":
ATTENDEE;ROLE=REQ-PARTICIPANT;PARTSTAT=ACCEPTED;RSVP=TRUE;CN="Dave Dem
 erjian":http://neighborsforneighbors.org/profile/DaveDemerjian
END:VEVENT
END:VCALENDAR
