BEGIN:VCALENDAR
PRODID:NingEventWidget-v1
VERSION:2.0
METHOD:PUBLISH
BEGIN:VEVENT
UID:1171189:Event:80811
DTSTAMP:20260421T233543Z
SUMMARY:Revolutionary War Re-enactment Day at Loring-Greenough House
DESCRIPTION:Experience the Revolutionary War with Gardner’s Regiment
  and His Majesty’s 10th Regiment of Foot encamped on the grounds. Se
 e and learn about 18th century life in Boston, the Battle of Bunker Hi
 ll, soldiers and their equipment and much more! There will be a musket
  demonstration, drilling, a fiddler and tours of the 1760 House, an im
 portant site in the early days of the American Revolution. This is a f
 un day you won’t want to miss!\n\nFor more information visit http:/
 /neighborsforneighbors.org/events/revolutionary-war-re-enactment-day-a
 t-loring-greenough-house
DTSTART:20110917T140000Z
DTEND:20110917T200000Z
CATEGORIES:historical, re-enactment
LOCATION:Loring-Greenough House
WEBSITE:http://loring-greenough.org/
URL:http://loring-greenough.org/
CONTACT:
ORGANIZER:Loring-Greenough House
ATTACH;FMTTYPE="image/jpeg":http://storage.ning.com/topology/rest/1.0/
 file/get/2245135244?profile=original
ATTENDEE;ROLE=REQ-PARTICIPANT;PARTSTAT=ACCEPTED;RSVP=TRUE;CN="Frances 
 Harrell":http://neighborsforneighbors.org/profile/FrancesHarrell
END:VEVENT
END:VCALENDAR
