BEGIN:VCALENDAR
PRODID:NingEventWidget-v1
VERSION:2.0
METHOD:PUBLISH
BEGIN:VEVENT
UID:1171189:Event:44707
DTSTAMP:20260421T163930Z
SUMMARY:Rhythm & Muse Closing Parties!
DESCRIPTION:Rhythm and Muse will be closing soon to prepare for the ad
 dition of a wine bar/ tapas restaurant. Please join us for two back to
  back weekend-long \"closing parties,\" the first starting this Friday
  to kick off Memorial Day weekend.\n\nThere will be a storewide discou
 nt, free coffee and other refreshments, lots of $1 CDs, as well as fre
 ebies, including lots of interesting books from the former Roseway Boo
 kstore.\n\nWe'd love to share our ideas about Tres Gatos, the planned 
 restaurant/ book and music store, and hear your suggestions as well. W
 e want this to be a neighborhood hang-out, so feel free to share your 
 ideas!\n\nThe final closing party will be next weekend, from June 4 th
 rough 6. The store's final day will be Sunday June 6. Please help spre
 ad the word!\n\nThanks for all your support!\nThe R&M / Tres Gatos tea
 m\n\nFor more information visit http://neighborsforneighbors.org/event
 s/rhythm-muse-closing-parties
DTSTART:20100528T160000Z
DTEND:20100529T020000Z
CATEGORIES:closing, party
LOCATION:Rhythm and Muse
WEBSITE:
URL:
CONTACT:617-524-6622
ORGANIZER;CN="David Doyle":http://neighborsforneighbors.org/profile/Da
 vidDoyle
ATTACH;FMTTYPE="image/jpeg":
ATTENDEE;ROLE=REQ-PARTICIPANT;PARTSTAT=ACCEPTED;RSVP=TRUE;CN="Edith Mu
 rnane":http://neighborsforneighbors.org/profile/EdithMurnane
ATTENDEE;ROLE=REQ-PARTICIPANT;PARTSTAT=ACCEPTED;RSVP=TRUE;CN="David Do
 yle":http://neighborsforneighbors.org/profile/DavidDoyle
END:VEVENT
END:VCALENDAR
