BEGIN:VCALENDAR
PRODID:NingEventWidget-v1
VERSION:2.0
METHOD:PUBLISH
BEGIN:VEVENT
UID:1171189:Event:74843
DTSTAMP:20260421T214908Z
SUMMARY:\"Ring of Fire\" a tribute Johnny Cash
DESCRIPTION:On Tuesday, June 28, Bella Luna Restaurant & Milky Way Lou
 nge and Jim Beam proudly present \"Ring of Fire\" - a tribute to Johnn
 y Cash. The night will include a Bar-B-Q on our outdoor patio, bourbon
 -inspired cocktails and live Johnny Cash covers. From 6:00 to 9:00,  
 guests can enjoy an all-you-can-eat BBQ and live entertainment for onl
 y $40.\n \nThe night will prove to be a 1, 2, 3 punch of great food, 
 drink and music. Bella Luna Restaurants' executive chef, Sam Putnam wi
 ll be manning the grill. Cooking up everything from BBQ ribs to prepar
 ing fresh cole slaw. The bartenders will be teaming up with Jim Beam t
 o create some refreshing southern-style cocktails such as: Mint Julips
 , Manhattans and the classic Old-Fashioned. Local rockers, Gilded Spli
 nters, will take the stage performing two sets of Johnny Cash tunes to
  round out the evening. Guests are encouraged to make reservations for
  6:00pm in advance through http://www.opentable.com and noting \"Johnn
 y Cash.\"\n \nCelebrate the life and legacy of Johnny Cash with Bella
  Luna Restaurant & Milky Lounge, Jim Beam and Gilded Splinters on Tues
 day, June 28. 6:00 - 9:00pm\n\nFor more information visit http://neigh
 borsforneighbors.org/events/ring-of-fire-a-tribute-johnny
DTSTART:20110628T220000Z
DTEND:20110629T010000Z
CATEGORIES:bbq, dinner, concert, live
LOCATION:Bella Luna Restaurant & Milky Way Lounge
WEBSITE:http://www.milkywayjp.com
URL:http://www.milkywayjp.com
CONTACT:617-524-3740 x22
ORGANIZER;CN="Carol Downs":http://neighborsforneighbors.org/profile/Ca
 rolDowns
ATTACH;FMTTYPE="image/jpeg":http://storage.ning.com/topology/rest/1.0/
 file/get/2245134581?profile=original
ATTENDEE;ROLE=REQ-PARTICIPANT;PARTSTAT=ACCEPTED;RSVP=TRUE;CN="Carol Do
 wns":http://neighborsforneighbors.org/profile/CarolDowns
END:VEVENT
END:VCALENDAR
