BEGIN:VCALENDAR
PRODID:NingEventWidget-v1
VERSION:2.0
METHOD:PUBLISH
BEGIN:VEVENT
UID:1171189:Event:95638
DTSTAMP:20260421T223035Z
SUMMARY:@RootsCampMA After Party - All Welcome!
DESCRIPTION:Are you planning to attend RootsCamp MA this weekend? Hope
  so! RootsCamp MA is a great way to meet like-minded progressives, sha
 re lessons learned and get connected to great social justice organizat
 ions in Boston. Just $10 or $20 for 2 days. Learn more at www.rootscam
 pma.org.Whether you attend RootsCamp MA or not, you are encouraged to 
 join us for the After Party on Saturday night! 8:00pm until 10:00pmCos
 t: $5-$20 collected at the door. No charge for RootsCamp MA attendees.
 (every $10 includes raffle ticket to win a $25 Trader Joe's gift card)
 Complimentary appetizers will be provided.Networking made easy! We'll 
 have name tags, plus \"I'm Looking For\" and \"Ask Me About\" tags. Yo
 u're invited to cross-promote your events and campaigns. (Looking for 
 work? There will be a Jobs Board at RootsCamp MA.)ACCESSIBILITY: 21+ a
 fter 7PM. The venue is physically accessible - please note that the el
 evator is at the rear of the first floor and we've been told that bath
 rooms are big enough for manual, but not large motor-powered, wheelcha
 irs.Not sure if you should attend RootsCamp MA? This is not an exclusi
 ve space. If you think this MIGHT be for you - it is. Care about the w
 orld? Want to make it more just? Then you should definitely join us. D
 o we really mean you? Yes. We welcome all ages, races, genders, sexual
  orientations, levels of activism, and professions - people born in Bo
 ston and those that just moved here. Register in advance so we can pla
 n for amount of food.More information about the event, as well as the 
 most up to date list of sponsors and partner organizations, may be fou
 nd at www.rootscampma.org. Tickets and sponsorships may be purchased a
 t www.rootscampma13.eventbrite.com. After Party Saturday 8-10pm open t
 o all.###\n\nFor more information visit http://neighborsforneighbors.o
 rg/events/rootscampma-after-party-all-welcome
DTSTART:20130407T000000Z
DTEND:20130407T020000Z
CATEGORIES:after, party, networking, event, social
LOCATION:Lir Irish Pub and Restaurant
WEBSITE:
URL:
CONTACT:
ORGANIZER;CN="Socializing for Justice":http://neighborsforneighbors.or
 g/profile/SocializingforJustice71
ATTACH;FMTTYPE="image/jpeg":http://storage.ning.com/topology/rest/1.0/
 file/get/2245141064?profile=original
ATTENDEE;ROLE=REQ-PARTICIPANT;PARTSTAT=ACCEPTED;RSVP=TRUE;CN="Socializ
 ing for Justice":http://neighborsforneighbors.org/profile/Socializingf
 orJustice71
END:VEVENT
END:VCALENDAR
