BEGIN:VCALENDAR
PRODID:NingEventWidget-v1
VERSION:2.0
METHOD:PUBLISH
BEGIN:VEVENT
UID:1171189:Event:39571
DTSTAMP:20260421T200106Z
SUMMARY:Rosalita's Puppets
DESCRIPTION:Rosalita's Puppets presents an engaging show for the whole
  family. After the performance, children will get to meet the puppets.
 \n\nFor more information visit http://neighborsforneighbors.org/events
 /rosalitas-puppets
DTSTART:20100420T143000Z
DTEND:20100420T153000Z
CATEGORIES:puppet, show
LOCATION:Connolly Branch Library
WEBSITE:http://www.bpl.org/branches/connolly.htm
URL:http://www.bpl.org/branches/connolly.htm
CONTACT:617-522-1960
ORGANIZER;CN="Connolly Branch Library":http://neighborsforneighbors.or
 g/profile/ConnollyBranchLibrary
ATTACH;FMTTYPE="image/jpeg":http://storage.ning.com/topology/rest/1.0/
 file/get/2186464672?profile=original
ATTENDEE;ROLE=REQ-PARTICIPANT;PARTSTAT=ACCEPTED;RSVP=TRUE;CN="Connolly
  Branch Library":http://neighborsforneighbors.org/profile/ConnollyBran
 chLibrary
END:VEVENT
END:VCALENDAR
