BEGIN:VCALENDAR
PRODID:NingEventWidget-v1
VERSION:2.0
METHOD:PUBLISH
BEGIN:VEVENT
UID:1171189:Event:91027
DTSTAMP:20260421T190146Z
SUMMARY:Roslindale-West Roxbury National Night Out
DESCRIPTION:Come join us for a night of celebration.\nhttp://nno.rosli
 ndalecc.org/\n\nSpecial community award, crime fighter of the year awa
 rd, Crime watch group of the year award.  Snacks and fun things to do
  as well.\n\nVarious entertainments including local cheerleading squad
 s, singers, dance troupes, martial arts demonstrations.\n\nAt Adams Pa
 rk, Roslindale Square Village at Washington Street and Cummins Highway
 , across from the Roslindale Community Center.\n\nMBTA accessible\n\nF
 or more information visit http://neighborsforneighbors.org/events/rosl
 indale-west-roxbury-national-night-out
DTSTART:20120828T210000Z
DTEND:20120829T000000Z
CATEGORIES:national, night, out
LOCATION:Adams Park-Roslindale Square Village
WEBSITE:http://nno.roslindalecc.org/
URL:http://nno.roslindalecc.org/
CONTACT:617-343-4564
ORGANIZER:Boston PD and Area Groups
ATTACH;FMTTYPE="image/jpeg":http://storage.ning.com/topology/rest/1.0/
 file/get/2245140493?profile=original
ATTENDEE;ROLE=REQ-PARTICIPANT;PARTSTAT=ACCEPTED;RSVP=TRUE;CN="Dennis K
 irkpatrick":http://neighborsforneighbors.org/profile/DennisKirkpatrick
END:VEVENT
END:VCALENDAR
