BEGIN:VCALENDAR
PRODID:NingEventWidget-v1
VERSION:2.0
METHOD:PUBLISH
BEGIN:VEVENT
UID:1171189:Event:88194
DTSTAMP:20260421T194742Z
SUMMARY:Rozzie Green House Fair
DESCRIPTION:This Saturday at the Roslindale Community Center there wil
 l be a Green Home Fair from 9:30 am to 1:30 pm. My green remodeling co
 mpany will be represented along with Mass Save, Boston Building Resour
 ces and other green groups. Attendance is free and open to all..please
  spread the word\n\nFor more information visit http://neighborsforneig
 hbors.org/events/rozzie-green-house-fair
DTSTART:20120128T143000Z
DTEND:20120128T183000Z
CATEGORIES:fair, open, to, the, public, free, of, charge
LOCATION:Roslindale Community Center
WEBSITE:
URL:
CONTACT:617-388-0793
ORGANIZER:David Kelman, Gregory L Caplan, Laura Catanzaro
ATTACH;FMTTYPE="image/jpeg":
ATTENDEE;ROLE=REQ-PARTICIPANT;PARTSTAT=ACCEPTED;RSVP=TRUE;CN="Gregory 
 L Caplan":http://neighborsforneighbors.org/profile/GregoryLCaplan
END:VEVENT
END:VCALENDAR
