BEGIN:VCALENDAR
PRODID:NingEventWidget-v1
VERSION:2.0
METHOD:PUBLISH
BEGIN:VEVENT
UID:1171189:Event:71815
DTSTAMP:20260421T220404Z
SUMMARY:RozzieBikes Movie Night
DESCRIPTION:This movie, \"The Bicyclists\" was filmed on location in P
 ortland, Eastern Oregon and Southwest Washington. This unique project 
 was born in the imagination of writer / director Carl Jameson, longtim
 e Portland resident and active bicyclist.\nPopcorn and drinks will be 
 available.\nSee you there!\n\nFor more information visit http://neighb
 orsforneighbors.org/events/rozziebikes-movie-night
DTSTART:20110511T223000Z
DTEND:20110512T003000Z
CATEGORIES:social, event
LOCATION:The Longfellow House
WEBSITE:http://tinyurl.com/Longfellow-House-Roslindale
URL:http://tinyurl.com/Longfellow-House-Roslindale
CONTACT:
ORGANIZER;CN="George Ulrich":http://neighborsforneighbors.org/profile/
 GeorgeUlrich
ATTACH;FMTTYPE="image/jpeg":http://storage.ning.com/topology/rest/1.0/
 file/get/2245134036?profile=original
ATTENDEE;ROLE=REQ-PARTICIPANT;PARTSTAT=ACCEPTED;RSVP=TRUE;CN="Ferris W
 heels Bike Shop":http://neighborsforneighbors.org/profile/FerrisWheels
 BikeShop
ATTENDEE;ROLE=REQ-PARTICIPANT;PARTSTAT=ACCEPTED;RSVP=TRUE;CN="George U
 lrich":http://neighborsforneighbors.org/profile/GeorgeUlrich
END:VEVENT
END:VCALENDAR
