BEGIN:VCALENDAR
PRODID:NingEventWidget-v1
VERSION:2.0
METHOD:PUBLISH
BEGIN:VEVENT
UID:1171189:Event:90827
DTSTAMP:20260421T190003Z
SUMMARY:Sandra Wong and Ross Martin
DESCRIPTION:notloB had planned to take the Summer off, but when Sandra
  Wong called, we said YES! Sandra Wong and Ross Martin come together 
 in a dynamic combination of nyckelharpa/fiddle, and guitar to explore 
 music from all corners of the globe, including their own compositions.
  Sandra and Ross have been playing music together for 8 years and are 
 now taking their duo on the road. Reaching into their individual root
 s of Classical Western, Bluegrass, Jazz, Scandinavian, Middle-eastern,
  Old-time American music and more, their arrangements honor each tradi
 tion while moving into new, unchartered territory. Whether it’s old-
 time tunes in 7, Bach on nyckelharpa and guitar, Swedish tunes from hu
 ndreds of years ago brought into a 21st century arrangement, original 
 compositions or simply beautifully played renditions of traditional fo
 lk melodies from around the world; Sandra and Ross create a musical pl
 ayground for everyone (both musicians and listeners) to explore, play,
  stretch, and grow in a joyful space.http://sandrawongmusic.com/http:/
 /rossmartinguitar.com/$9 +$1 preservation fee if reservation is receiv
 ed by August 1, $14 + $1 preservation fee thereafter.reservation reque
 sts to notlobreservations at gmail dot comnotloB website - https://si
 tes.google.com/site/notlobmusic/\n\nFor more information visit http://
 neighborsforneighbors.org/events/sandra-wong-and-ross-martin
DTSTART:20120817T233000Z
DTEND:20120818T020000Z
CATEGORIES:concert
LOCATION:United States
WEBSITE:http://maps.google.com/maps?f=q&source=s_q&hl=en&geocode=&q=12
 +South+Street+02130&sll=42.351996,-71.057153&sspn=0.010498,0.022724&ie
 =UTF8&hq=&hnear=12+South+St,+Boston,+Suffolk,+Massachusetts+02130&z=16
URL:http://maps.google.com/maps?f=q&source=s_q&hl=en&geocode=&q=12+Sou
 th+Street+02130&sll=42.351996,-71.057153&sspn=0.010498,0.022724&ie=UTF
 8&hq=&hnear=12+South+St,+Boston,+Suffolk,+Massachusetts+02130&z=16
CONTACT:4136584585
ORGANIZER;CN="Jeff Boudreau":http://neighborsforneighbors.org/profile/
 JeffBoudreau
ATTACH;FMTTYPE="image/jpeg":http://storage.ning.com/topology/rest/1.0/
 file/get/2202595473?profile=original
ATTENDEE;ROLE=REQ-PARTICIPANT;PARTSTAT=ACCEPTED;RSVP=TRUE;CN="Jeff Bou
 dreau":http://neighborsforneighbors.org/profile/JeffBoudreau
END:VEVENT
END:VCALENDAR
