BEGIN:VCALENDAR
PRODID:NingEventWidget-v1
VERSION:2.0
METHOD:PUBLISH
BEGIN:VEVENT
UID:1171189:Event:90883
DTSTAMP:20260421T200106Z
SUMMARY:SAW Youth Program Alumni Celebration (Free community event)
DESCRIPTION:Award ceremony and videos for SAW's Alumni Celebration (20
 10 and 2011). See what positive things young women of our community (J
 P, Dorchester, Roxbury, Mattapan, Hyde Park, Roslindale, South End) ar
 e committed to. Help us continue to support, encourage, and inspire th
 e leaders of tomorrow. An open to the community event. Friends, and fa
 mily tables available for $25 each. Community businesses please donate
  items for gift bags and raffles. Buffet, Spoken Word, Poetry, Guest S
 peaker, Dancers, Live Band, DJ, and Dancing.\nFree and Open to the com
 munity!!\nSpecial Thanks:The City of Boston Mayor Tom MeninoMassachuse
 tts Convention Center AuthorityJohn P. Holland Community CenterThe Bos
 ton FoundationBuilding PathwaysDorchester Roxbury Labor CommunityUnite
 d Neighborhood of Lower Roxbury\nFor more info: 617-818-1929\n\nFor mo
 re information visit http://neighborsforneighbors.org/events/saw-youth
 -program-alumni-celebration-free-community-event
DTSTART:20120628T230000Z
DTEND:20120629T030000Z
CATEGORIES:buffet, fundraiser, music, community, event, free, food, ce
 lebration, open, to, the
LOCATION:Hibernian Hall, 3rd Floor
WEBSITE:http://goo.gl/maps/9XIl
URL:http://goo.gl/maps/9XIl
CONTACT:617-818-1929
ORGANIZER:Mikey Myles
ATTACH;FMTTYPE="image/jpeg":
ATTENDEE;ROLE=REQ-PARTICIPANT;PARTSTAT=ACCEPTED;RSVP=TRUE;CN=glazelike
 adonut:http://neighborsforneighbors.org/profile/glazelikeadonut
END:VEVENT
END:VCALENDAR
