BEGIN:VCALENDAR
PRODID:NingEventWidget-v1
VERSION:2.0
METHOD:PUBLISH
BEGIN:VEVENT
UID:1171189:Event:85554
DTSTAMP:20260421T184455Z
SUMMARY:Screening and Talk with Filmmaker Saul Landau
DESCRIPTION:The Jamaica Plain Forum presents...\n\"Will the Real Terro
 rist Please Stand Up\", a screening and discussion with renowned filmm
 aker Saul Landau, who will be showing his new film on the Cuban 5.\n\n
 For more information visit http://neighborsforneighbors.org/events/scr
 eening-and-talk-with-filmmaker-saul-landau
DTSTART:20111202T003000Z
DTEND:20111202T023000Z
CATEGORIES:film
LOCATION:First Church in Jamaica Plain / JP Forum
WEBSITE:http://www.jamaicaplainforum.org
URL:http://www.jamaicaplainforum.org
CONTACT:
ORGANIZER:The JP Forum
ATTACH;FMTTYPE="image/jpeg":
ATTENDEE;ROLE=REQ-PARTICIPANT;PARTSTAT=ACCEPTED;RSVP=TRUE;CN="Liz W.":
 http://neighborsforneighbors.org/profile/LizW
END:VEVENT
END:VCALENDAR
