BEGIN:VCALENDAR
PRODID:NingEventWidget-v1
VERSION:2.0
METHOD:PUBLISH
BEGIN:VEVENT
UID:1171189:Event:79631
DTSTAMP:20260421T200624Z
SUMMARY:September 6 Meeting of the JP GOP
DESCRIPTION:The Jamaica Plain Republicans, that is, Boston Wards 11 & 
 19 willmeet on September 6, the first Tuesday of the month at 8:00PM a
 t Doyle's Cafe 3484 Washington St.    For more information contact 
 Edward Wagner, chair of Ward 11 at    524-5352 or Edward59@JP-GOP.o
 rg\n\nFor more information visit http://neighborsforneighbors.org/even
 ts/september-6-meeting-of-the-jp-gop
DTSTART:20110907T000000Z
DTEND:20110907T023000Z
CATEGORIES:political, meeting
LOCATION:Doyle's Pub
WEBSITE:
URL:
CONTACT:617-524-5352
ORGANIZER;CN="Edward W Wagner":http://neighborsforneighbors.org/profil
 e/EdwardWWagner
ATTACH;FMTTYPE="image/jpeg":http://storage.ning.com/topology/rest/1.0/
 file/get/2245131511?profile=original
ATTENDEE;ROLE=REQ-PARTICIPANT;PARTSTAT=ACCEPTED;RSVP=TRUE;CN="Edward W
  Wagner":http://neighborsforneighbors.org/profile/EdwardWWagner
END:VEVENT
END:VCALENDAR
