BEGIN:VCALENDAR
PRODID:NingEventWidget-v1
VERSION:2.0
METHOD:PUBLISH
BEGIN:VEVENT
UID:1171189:Event:69207
DTSTAMP:20260421T220849Z
SUMMARY:Sister Helen Prejean author of Dead Man Walking
DESCRIPTION:ï»¿Sister Helen Prejean, the author of \"Dead Man Walking\
 " will be speaking at St. Cecilia Church in the Back Bay (behind Berkl
 ee School of Music at the corner of Mass Ave and Boylston St).Â  She h
 as been instrumental in sparking natioanl dialogue on the death penalt
 y and helping to shape the Catholic Church's newly vigorous opposition
  to state executions.Â  She travels around the world giving talks abou
 t her ministry and considers herself a southern storyteller.\nSince 19
 84, Sister Helen has divided her time between educating citizens about
  the the death penalty and counceling individual death row prisoners.Â
   She has accompanied six men to their deaths.Â  In doing so she began
  to suspect that some of those executed were not guilty.Â  This realiz
 ation inspired her second book, The Death of Innocents: An Eyewitness 
 Account of Wrongful Executions.Â  Sr. Helen is presently at work on an
 other book, River of Fire: My Spirtitual Journey.\n\nFor more informat
 ion visit http://neighborsforneighbors.org/events/sister-helen-prejean
 -author-of
DTSTART:20110413T230000Z
DTEND:20110414T003000Z
CATEGORIES:social, justice, talk
LOCATION:St. Cecilia Church, Back Bay
WEBSITE:
URL:
CONTACT:
ORGANIZER:St Cecilia Parish
ATTACH;FMTTYPE="image/jpeg":
ATTENDEE;ROLE=REQ-PARTICIPANT;PARTSTAT=ACCEPTED;RSVP=TRUE;CN="Jenny Jo
 nes":http://neighborsforneighbors.org/profile/JennyJones
END:VEVENT
END:VCALENDAR
