BEGIN:VCALENDAR
PRODID:NingEventWidget-v1
VERSION:2.0
METHOD:PUBLISH
BEGIN:VEVENT
UID:1171189:Event:69370
DTSTAMP:20260421T232403Z
SUMMARY:Skillshare: Art of the Schmooze
DESCRIPTION:Do you often get stuck in conversations? Not know how to a
 pproach people at networking events?  Join Socializing for Justice fo
 r a fast-paced, fun & interactive Skillshare on the Art of the Schmooz
 e.  RSVP at http://www.sojust.org - Newcomers always welcomed!  
  Event fee: $5-$10 cash at the door.  SoJust's Co-Founder, Robbie
  Samuels, who is well known for his schmoozing skills, is this month's
  facilitator.  Art of the Schmooze Forming and cultivating relat
 ionships is at the heart of any successful fundraising campaign, volun
 teer drive, committee effort or community building activity. This work
 shop will give you the confidence to pursue your personal goals - from
  the importance of shaking hands and making eye contact, to tips on th
 e best opening line and how to exit a conversation gracefully.\n\nFor 
 more information visit http://neighborsforneighbors.org/events/skillsh
 are-art-of-the-schmooze-2
DTSTART:20110502T220000Z
DTEND:20110503T003000Z
CATEGORIES:workshop, schmooze, networking, sojust, socializing, for, j
 ustice, robbie, samuels, skillshare
LOCATION:The NonProfit Center
WEBSITE:http://bit.ly/ieXreK
URL:http://bit.ly/ieXreK
CONTACT:
ORGANIZER;CN="Socializing for Justice":http://neighborsforneighbors.or
 g/profile/SocializingforJustice71
ATTACH;FMTTYPE="image/jpeg":http://storage.ning.com/topology/rest/1.0/
 file/get/2245132406?profile=original
ATTENDEE;ROLE=REQ-PARTICIPANT;PARTSTAT=ACCEPTED;RSVP=TRUE;CN="Socializ
 ing for Justice":http://neighborsforneighbors.org/profile/Socializingf
 orJustice71
END:VEVENT
END:VCALENDAR
