BEGIN:VCALENDAR
PRODID:NingEventWidget-v1
VERSION:2.0
METHOD:PUBLISH
BEGIN:VEVENT
UID:1171189:Event:91048
DTSTAMP:20260421T172212Z
SUMMARY:Skillshare: Art of the Schmooze
DESCRIPTION:Do you often get stuck in conversations? Not know how to a
 pproach people at networking events?  Join Socializing for Justice fo
 r a fast-paced, fun & interactive Skillshare on the Art of the Schmooz
 e on September 6th, 6:00 - 8:30 PM at the NonProfit Center*, 89 South 
 St, Boston.Register at http://www.sojust.org - Newcomers always welcom
 ed!SoJust hosts events that draw progressives of all stripes that shar
 e common values but may work on different issues. We create social spa
 ces that allow for the possibility of cross-issue connections and run 
 a Skillshare Series, hosted by The NonProfit Center, which builds our 
 individual capacity to make a difference in the world.SCHEDULE6:00-6:3
 0 Socializing - bring your own dinner6:30-8:30 Training8:00-8:30 Q & A
  and more socializingEvent fee: $10-$20 cash at the door.SoJust's Co-F
 ounder, Robbie Samuels, who is well known for his schmoozing skills, i
 s this month's facilitator.Art of the SchmoozeForming and cultivating 
 relationships is at the heart of any successful fundraising campaign, 
 volunteer drive, committee effort or community building activity. This
  workshop will give you the confidence to pursue your personal goals -
  from the importance of shaking hands and making eye contact, to tips 
 on the best opening line and how to exit a conversation gracefully. An
  amazing side benefit is that you'll learn how to create a welcoming c
 ommunity space by keeping an eye out for outliers, considering yoursel
 f a host instead of a guest and knowing how to compliment someone with
 out \"othering\" them.ABOUT OUR PRESENTERRobbie Samuels has extensive 
 community organizing, events logistics and fundraising experience. In 
 2006 he co-founded Socializing for Justice to build a cross-cultural, 
 cross-issue progressive community, network and movement in Boston base
 d on the philosophy of abundance. He is the Senior Manager of Events a
 nd Donor Engagement at Gay & Lesbian Advocates & Defenders (GLAD). On 
 the side he offers trainings and consultation to non-profit boards, ve
 nture capitalists and grassroots organizers. In 2011, Boston City Coun
 cil named his birthday, September 16, \"Robbie Samuels Day\". Learn mo
 re about his trainings, including: Art of the Schmooze, Fundraising: G
 etting Past the Fear of Asking, Suicide Prevention Training for Commun
 ity Leaders, at http://www.robbiesamuels.com.*DIRECTIONS (http://bit.l
 y/ieXreK) - The NonProfit Center is located one block from South Stati
 on at 89 South Street. The Center is accessible through the main lobby
  to people who have restricted physical abilities.HELP SPREAD THE WORD
 !Invite friends to the Facebook event: http://on.fb.me/R1RxcJJoin the 
 SoJust Facebook group: http://on.fb.me/SoJustOn Twitter? Follow @SoJus
 t (http://www.twitter.com/sojust and SoJust's Co-Founder @RobbieSamuel
 s (http://www.twitter.com/robbiesamuels). Don’t forget to tweet abou
 t this event using #sojust!___________________________________________
 ______________Socializing for Justice - http://www.sojust.orgSoJust is
  all about building a cross-cultural, cross-issue progressive communit
 y, network and movement in Boston. We're doing it by putting the SOCIA
 L back in SOCIAL JUSTICE. We focus on creating welcoming spaces that f
 oster relationship-building across issue silos.SoJust isn't a non-prof
 it 501(c)(3) and receives no outside funding. We're a grassroots volun
 teer-run member-supported cross-issue progressive community that's bee
 n growing steadily since August 2006. We have 2,000+ members, we have 
 hosted 130+ events and we manage an online hub of progressive events a
 nd resources at www.sojust.org.\n\nFor more information visit http://n
 eighborsforneighbors.org/events/skillshare-art-of-the-schmooze-5
DTSTART:20120906T220000Z
DTEND:20120907T003000Z
CATEGORIES:skillshare, workshop
LOCATION:The NonProfit Center
WEBSITE:
URL:
CONTACT:
ORGANIZER;CN="Socializing for Justice":http://neighborsforneighbors.or
 g/profile/SocializingforJustice71
ATTACH;FMTTYPE="image/jpeg":http://storage.ning.com/topology/rest/1.0/
 file/get/2245139779?profile=original
ATTENDEE;ROLE=REQ-PARTICIPANT;PARTSTAT=ACCEPTED;RSVP=TRUE;CN="Socializ
 ing for Justice":http://neighborsforneighbors.org/profile/Socializingf
 orJustice71
END:VEVENT
END:VCALENDAR
