BEGIN:VCALENDAR
PRODID:NingEventWidget-v1
VERSION:2.0
METHOD:PUBLISH
BEGIN:VEVENT
UID:1171189:Event:60780
DTSTAMP:20260421T220849Z
SUMMARY:Skillshare: Art of the Schmooze
DESCRIPTION:Did you resolve to expand your network of connections in t
 he new year? Need a networking primer? Join Socializing for Justice fo
 r an interactive, fast-paced and fun skillshare: Art of the Schmooze o
 n January 20th, 6:00 - 8:30 PM.\n\nArt of the Schmooze\nForming and cu
 ltivating relationships is at the heart of any successful fundraising 
 campaign, volunteer drive, committee effort or community building acti
 vity. This workshop will give you the confidence to pursue your person
 al goals - from the importance of shaking hands and making eye contact
 , to tips on the best opening line and how to exit a conversation grac
 efully. An amazing side benefit is that you'll learn how to create a w
 elcoming community space by keeping an eye out for outliers, consideri
 ng yourself a host instead of a guest and knowing how to compliment so
 meone without \"othering\" them.\n\nABOUT OUR PRESENTER\nRobbie Samuel
 s is a white, queer, feminist, trans man with extensive community orga
 nizing, event logistics and fundraising experience.\n\nFor more inform
 ation visit http://neighborsforneighbors.org/events/skillshare-art-of-
 the-schmooze
DTSTART:20110120T230000Z
DTEND:20110121T013000Z
CATEGORIES:social, networking, mixer, progressive
LOCATION:The NonProfit Center
WEBSITE:http://www.nonprofitcenterboston.org/site/c.ddKGIQNuEmG/b.1363
 373/k.5381/About_Us__Directions.htm
URL:http://www.nonprofitcenterboston.org/site/c.ddKGIQNuEmG/b.1363373/
 k.5381/About_Us__Directions.htm
CONTACT:
ORGANIZER;CN="Socializing for Justice":http://neighborsforneighbors.or
 g/profile/SocializingforJustice71
ATTACH;FMTTYPE="image/jpeg":
ATTENDEE;ROLE=REQ-PARTICIPANT;PARTSTAT=ACCEPTED;RSVP=TRUE;CN=Alison:ht
 tp://neighborsforneighbors.org/profile/Alison
ATTENDEE;ROLE=REQ-PARTICIPANT;PARTSTAT=ACCEPTED;RSVP=TRUE;CN="Socializ
 ing for Justice":http://neighborsforneighbors.org/profile/Socializingf
 orJustice71
END:VEVENT
END:VCALENDAR
