BEGIN:VCALENDAR
PRODID:NingEventWidget-v1
VERSION:2.0
METHOD:PUBLISH
BEGIN:VEVENT
UID:1171189:Event:82452
DTSTAMP:20260421T231950Z
SUMMARY:Skillshare: Intermediate Excel Tips & Tricks
DESCRIPTION:Do you have the basics down with Excel, but wish you could
  figure out formulas and mailmerge? Does your boss expect you to creat
 e dazzling charts and you don't know where to start? Join Socializing 
 for Justice for our next skillshare on Intermediate Excel Tips & Trick
 s on October 3, 6:00 - 8:30 PM.\nSoJust hosts events that draw progres
 sives of all stripes that share common values but may work on differen
 t issues. We host monthly socials that allow for the possibility of cr
 oss-issue connections and run a monthly Skillshare Series, hosted by T
 he NonProfit Center*, which increases our individual capacity for move
 ment building.\nSCHEDULE \n6:00-6:30 Socializing -  bring your own d
 inner \n6:30-8:30 Training and Q&A\n \nRSVP at http://www.sojust.org
  - Newcomers always welcomed!\n \nEvent fee: $10-$20 cash at the door
 .\n \nIntermediate Excel Tips & Tricks\nThere are so many ways that s
 preadsheets can help organize & analyze our lives and organizations, w
 hether its managing your co-op's budget or graphing the growth in your
  group's membership!Please bring a computer, or you can look on and ta
 ke notes.  Some topics that we'll go over: Efficient Data Entry & Dat
 a Importing, Sorting Data, Using Basic & Fancy Formulas, Making Charts
 , Manipulating Text, Mail Merge!\n \nABOUT OUR PRESENTER \nReed Mill
 er is an enthusiastic MIT-transguy nerd  who'll show you some neat wa
 ys to take your simple spreadsheets and make them more functional and 
 fabulous! Demonstrations will be done in Microsoft Excel 2007, but Ree
 d knows Excel 2003 and OpenOffice as well.\n \n*DIRECTIONS (http://bi
 t.ly/ieXreK) - The NonProfit Center is located one block from South St
 ation at 89 South Street. The Center is accessible through the main lo
 bby to people who have restricted physical abilities.\n_______________
 __________________________________________\nSocializing for Justice - 
 http://www.sojust.org\nSince 2006, we've been building this great sand
 box where we can bring progressives of all stripes together and try ou
 t new ideas in this \"Movement Moment\". Spaces like this are crucial 
 as we start to reframe and build new visions for our movement(s).\n \
 nWith almost 1800 members and almost 5 years of creating a diverse cro
 ss-issue community in Boston (100+ events!), Socializing for Justice i
 s the best place to find the great people, organizations and community
  you're looking for while putting the SOCIAL back in social justice.\n
  \nYES, WE MEAN YOU. We've got members of all ages, races, genders, s
 exual orientations, levels of activism and professions. We hope you se
 e someone like yourself and meet someone you otherwise wouldn't have.\
 n \nWant to know more about SoJust? Check out our Frequently Asked Qu
 estions and past event photos on http://www.sojust.org!\n \nFollow us
  on Twitter: http://twitter.com/sojust and http://twitter.com/robbiesa
 muels.\n\n\n\nFor more information visit http://neighborsforneighbors.
 org/events/skillshare-intermediate-excel-tips-tricks
DTSTART:20111003T220000Z
DTEND:20111004T003000Z
CATEGORIES:workshop, skillshare
LOCATION:The NonProfit Center
WEBSITE:http://maps.google.com/maps?hl=en&tab=wl
URL:http://maps.google.com/maps?hl=en&tab=wl
CONTACT:
ORGANIZER;CN="Socializing for Justice":http://neighborsforneighbors.or
 g/profile/SocializingforJustice71
ATTACH;FMTTYPE="image/jpeg":
ATTENDEE;ROLE=REQ-PARTICIPANT;PARTSTAT=ACCEPTED;RSVP=TRUE;CN="Socializ
 ing for Justice":http://neighborsforneighbors.org/profile/Socializingf
 orJustice71
END:VEVENT
END:VCALENDAR
