BEGIN:VCALENDAR
PRODID:NingEventWidget-v1
VERSION:2.0
METHOD:PUBLISH
BEGIN:VEVENT
UID:1171189:Event:104098
DTSTAMP:20260421T185624Z
SUMMARY:Skillshare: Introduction to Nonviolent Communication (NVC)
DESCRIPTION:**Yes this is on a Tuesday, next month we'll be back to ou
 r 1st Monday of the month schedule**\n\nAre you tired of conversations
  that involve aggravation, intimidation and manipulation? Want to comm
 unicate in a way that fosters respect, peace and connection? Join Soci
 alizing for Justice for a Skillshare introducing Nonviolent Communicat
 ion on Tuesday, October 1st from 6:00-8:30 PM. Learn the basic princip
 les of NVC and a specific communication method that you'll be able to 
 apply right away!\n\nFee: $10 advance/ $20 door is split with the trai
 ners.\nLimited space - register ahead of time: www.sojust.org\nCredit 
 cards accepted online. Cash only at the door.\nNewcomers always welcom
 ed!\n\nSCHEDULE\n6:00-6:30 Socializing -  bring your own dinner\n6:30
 -8:30 Training and Q&A\n*  DIRECTIONS - The NonProfit Center is locat
 ed one block from South Station at 89 South Street. The Center is phys
 ically accessible through the main lobby.\nSpeaking Peace - An Introdu
 ction to Nonviolent Communication\nNonviolent Communication (NVC) is a
  way of communicating that strengthens our ability to stay in touch wi
 th our humanity and get our needs met, even under difficult circumstan
 ces. Instead of habitual responses, our words become conscious respons
 es based on a clear awareness of what we are observing, feeling, and w
 anting. Check out this brief intro video about NVC: http://youtu.be/a3
 zSNxE37OM.\n\nABOUT OUR PRESENTERS\nGail Carroll has been offering Non
 violent Communication workshops and trainings in the Boston area since
  2006. \nPaul Merrill graduated from the NVC North American Leadershi
 p Training in 2005 and has taught NVC in Boston, New York City, Belgiu
 m and Poland. \n*  DIRECTIONS (http://bit.ly/ieXreK) - The NonProfit
  Center is located one block from South Station at 89 South Street. Th
 e Center is physically accessible through the main lobby.\n___________
 ______________________________________________\nSocializing for Justic
 e - www.sojust.org\n\nWith over 2300 members and 7 years of creating a
  diverse cross-issue community in Boston (160+ events!), Socializing f
 or Justice is the best place to find the great people, organizations a
 nd community you're looking for while putting the SOCIAL back in socia
 l justice.\n\n \n\nFor more information visit http://neighborsforneig
 hbors.org/events/skillshare-introduction-to-nonviolent-communication-n
 vc
DTSTART:20131001T220000Z
DTEND:20131002T003000Z
CATEGORIES:workshop
LOCATION:The NonProfit Center
WEBSITE:http://www.sojust.org
URL:http://www.sojust.org
CONTACT:
ORGANIZER;CN="Socializing for Justice":http://neighborsforneighbors.or
 g/profile/SocializingforJustice71
ATTACH;FMTTYPE="image/jpeg":
ATTENDEE;ROLE=REQ-PARTICIPANT;PARTSTAT=ACCEPTED;RSVP=TRUE;CN="Socializ
 ing for Justice":http://neighborsforneighbors.org/profile/Socializingf
 orJustice71
END:VEVENT
END:VCALENDAR
