BEGIN:VCALENDAR
PRODID:NingEventWidget-v1
VERSION:2.0
METHOD:PUBLISH
BEGIN:VEVENT
UID:1171189:Event:91929
DTSTAMP:20260421T203901Z
SUMMARY:Skillshare: Leading with Purpose - Turning Great Ideas into Re
 ality
DESCRIPTION:Redefine what it means to be a purpose-driven leader. Join
  Socializing for Justice for a Skillshare on Leading With Purpose on N
 ovember 5, 6:00 - 8:30 PM.Register at www.sojust.org - Newcomers alway
 s welcomed!SoJust hosts events that draw progressives of all stripes t
 hat share common values but may work on different issues. We create so
 cial spaces that allow for the possibility of cross-issue connections 
 and run a Skillshare Series, hosted by The NonProfit Center*, which in
 creases our individual capacity for movement building.6:00-6:30 Social
 izing - bring your own dinner (microwave and water cooler available)6:
 30-8:30 Training and Q & AEvent fee: $10-$20 cash at the door.Leading 
 With Purpose: Turning Great Ideas Into RealityHow many times have you 
 said “I have a great idea..” only to become overwhelmed with how t
 o actually make it happen? This is a chance for inspired leaders, chan
 ge-makers and individuals to get in the right frame of mind to turn yo
 ur bright idea into reality and have it succeed. Through interactive, 
 creative exercises you’ll be contemplating, envisioning and sharing 
 your grand plan  with others so you can walk away with a clear sense 
 of what really is possible and what it will take to get your idea goin
 g and growing.ABOUT OUR PRESENTERRachel O’h-Uiginn is a trained and 
 certified professional life coach and CEO of Undercurrent Coaching wit
 h 7+ years experience turning great ideas into inspired action and hel
 ps her business and individual clients achieve amazing results in thei
 r personal and professional goals. She is also the former chapter co-d
 irector of the New Leaders Council of Boston, a civic-minded nonprofit
  that provides training and connections to progressive leaders. In add
 ition, Rachel works within digital strategy for Harvard University. Fo
 r more information visit www.undercurrentcoaching.com.*DIRECTIONS (htt
 p://bit.ly/ieXreK) - The NonProfit Center is located one block from So
 uth Station at 89 South Street. The Center is accessible through the m
 ain lobby to people who have restricted physical abilities.HELP SPREAD
  THE WORD!Invite friends to the Facebook event:http://goo.gl/xO2h8Join
  the SoJust Facebook group: http://on.fb.me/SoJustOn Twitter? Follow @
 SoJust (http://www.twitter.com/sojust and SoJust's Co-Founder @RobbieS
 amuels (http://www.twitter.com/robbiesamuels). Don’t forget to tweet
  about this event using #sojust!______________________________________
 ____________Socializing for Justice - http://www.sojust.orgSoJust is a
 ll about building a cross-cultural, cross-issue progressive community,
  network and movement in Boston. We're doing it by putting the SOCIAL 
 back in SOCIAL JUSTICE. We focus on creating welcoming spaces that fos
 ter relationship-building across issue silos.SoJust isn't a non-profit
  501(c)(3) and receives no outside funding. We're a grassroots volunte
 er-run member-supported cross-issue progressive community that's been 
 growing steadily since August 2006. We have 2,000+ members, we have ho
 sted 130+ events and we manage an online hub of progressive events and
  resources at www.sojust.org. If you've benefited from this cross-issu
 e progressive network please contribute the suggested annual membershi
 p fee of $25. You may do this online (http://www.sojust.org/dues/) or 
 at any of our events. Thank you for helping us continue to provide a s
 pace for like-minded progressives of all stripes.Want to know more abo
 ut SoJust? Check out our Frequently Asked Questions- http://www.sojust
 .org/messages/boards/thread/3187615- and past event photos- http://www
 .sojust.org/photos/!\n\nFor more information visit http://neighborsfor
 neighbors.org/events/skillshare-leading-with-purpose-turning-great-ide
 as-into-reality
DTSTART:20121105T230000Z
DTEND:20121106T013000Z
CATEGORIES:skillshare, workshop
LOCATION:The NonProfit Center
WEBSITE:
URL:
CONTACT:
ORGANIZER;CN="Socializing for Justice":http://neighborsforneighbors.or
 g/profile/SocializingforJustice71
ATTACH;FMTTYPE="image/jpeg":http://storage.ning.com/topology/rest/1.0/
 file/get/2245140235?profile=original
ATTENDEE;ROLE=REQ-PARTICIPANT;PARTSTAT=ACCEPTED;RSVP=TRUE;CN="Socializ
 ing for Justice":http://neighborsforneighbors.org/profile/Socializingf
 orJustice71
END:VEVENT
END:VCALENDAR
