BEGIN:VCALENDAR
PRODID:NingEventWidget-v1
VERSION:2.0
METHOD:PUBLISH
BEGIN:VEVENT
UID:1171189:Event:90200
DTSTAMP:20260421T212452Z
SUMMARY:Skillshare: Productivity Tech Tips
DESCRIPTION:Ever wonder how busy people get sooo much done? Secrets re
 vealed! Join Socializing for Justice for a Productivity Tech Tips Skil
 lshare on June 4, 6:00 - 8:30 PM.SoJust hosts events that draw progres
 sives of all stripes who share common values but may work on different
  issues. We host monthly socials that allow for the possibility of cro
 ss-issue connections and run a monthly Skillshare Series, hosted by Th
 e NonProfit Center*, which increases our individual capacity for movem
 ent building.RSVP at http://www.sojust.org - newcomers always welcomed
 !Cost: $10-$20 collected at the door.SCHEDULE6:00-6:30 Socializing -Â 
  bring your own dinner6:30-8:30 Training and Q&AProductivity Tech Tips
 The tech world can be an overwhelming place. You know that there are 1
 001 great (and free) tools you can be using to live a more productive 
 life, but you don't know where to start. Let us help you out! At this 
 skillshare we will go in depth to demonstrate many great tools you sho
 uld be using everyday, including Rapportive (social media Gmail integr
 ation), Google docs and forms, Google voice, Jing (video captures), Dr
 opbox and much more. Have a favorite productivity tech tool? Email it 
 to robbie AT sojust DOT org.ABOUT OUR PRESENTERSJess Faulk has been ta
 lking tech for over 20 years. Her very first computer (not counting he
 r Atari) was a hand-me-down black and white Macintosh Classic. However
 , it was her Macintosh Performa that really made her fall in love with
  all of the possibilities that computers and the budding internet coul
 d bring into our lives. Since then she has developed an intense curios
 ity for new technology and how to make it useful in our day to day liv
 es. Jess also has a strong interest in design, and tries to find ways 
 to wed her love for graphics and tech (especially in designing infogra
 phics). Read Jess' blog at www.jessfaulk.com.Robbie Samuels is often a
 sked how he manages to do so much and still sleep. These tips are the 
 answer. His non-stop schedule includes running 2 events a month for So
 cializing for Justice, 23 events a year for Gay & Lesbian Advocates & 
 Defenders and 1-4 trainings a month \"on the side\". No wonder Boston 
 City Council named his birthday \"Robbie Samuels Day\" in 2011! His ve
 ry first computer was a Commodore 64 when he was in 3rd grade and he w
 as hooked. Some thought he'd \"go into computers\", but instead he use
 s technology to enhance his life, increase his productivity and engage
  with his community. Learn more about his trainings, including: Art of
  the Schmooze, Fundraising: Getting Past the Fear of Asking, Suicide P
 revention Training for Community Leaders, at www.robbiesamuels.com.*DI
 RECTIONS: http://bit.ly/tweyZQThe NonProfit Center is located one bloc
 k from South Station at 89 South Street. The Center is accessible thro
 ugh the main lobby to people who have restricted physical abilities.HE
 LP SPREAD THE WORD!Join the SoJust Facebook group: http://on.fb.me/SoJ
 ustOn Twitter? Follow @SoJust (http://www.twitter.com/sojust), SoJust'
 s Co-Founder @RobbieSamuels (http://www.twitter.com/robbiesamuels) and
  our Assistant Organizer @KatyaM11 https://twitter.com/KatyaM11. Donâ€
 ™t forget to tweet about this event using #sojust!SOCIALIZING FOR JUST
 ICE - http://www.sojust.orgSoJust is all about building a cross-cultur
 al, cross-issue progressive community, network and movement in Boston.
  We're doing it by putting the SOCIAL back in SOCIAL JUSTICE. We focus
  on creating welcoming spaces that foster relationship-building across
  issue silos.\n\nFor more information visit http://neighborsforneighbo
 rs.org/events/skillshare-productivity-tech-tips
DTSTART:20120601T220000Z
DTEND:20120601T230000Z
CATEGORIES:training, workshop, seminar, skillshare
LOCATION:The NonProfit Center
WEBSITE:http://www.sojust.org
URL:http://www.sojust.org
CONTACT:
ORGANIZER;CN="Socializing for Justice":http://neighborsforneighbors.or
 g/profile/SocializingforJustice71
ATTACH;FMTTYPE="image/jpeg":
ATTENDEE;ROLE=REQ-PARTICIPANT;PARTSTAT=ACCEPTED;RSVP=TRUE;CN="Socializ
 ing for Justice":http://neighborsforneighbors.org/profile/Socializingf
 orJustice71
END:VEVENT
END:VCALENDAR
