BEGIN:VCALENDAR
PRODID:NingEventWidget-v1
VERSION:2.0
METHOD:PUBLISH
BEGIN:VEVENT
UID:1171189:Event:89182
DTSTAMP:20260421T184754Z
SUMMARY:Skillshare: Public Speaking
DESCRIPTION:Does the thought of speaking in public make you weak in th
 e knees? Are you looking for ways to bolster your public speaking skil
 ls and wow your audiences? Join Socializing for Justice for our next s
 killshare on Public Speaking on April 2nd from 6:00 - 8:30 PM.\n\nRSVP
  at http://www.sojust.org - newcomers always welcomed!\n\nCost: $10-$2
 0 (sliding scale) collected at the door.\n\nSoJust hosts events that d
 raw progressives of all stripes that share common values but may work 
 on different issues. We host monthly socials that allow for the possib
 ility of cross-issue connections and run a monthly Skillshare series, 
 hosted by The NonProfit Center*, which increases our individual capaci
 ty for movement building.\n\nSCHEDULE\n6:00-6:30 Socializing - bring y
 our own dinner\n\n6:30-8:30 Training and Q&A\n\nPublic Speaking\nIntro
 ductory public speaking training focuses on building the basic technic
 al skills necessary to clearly transmit information from the speaker t
 o an audience. Specific skills include word choice, eye contact, volum
 e, vocalized pauses, and body language. Using a small-group format for
  practical training followed by a discussion debrief from each exercis
 e, the training is designed to allow all participants the opportunity 
 to practice their speaking in an environment that is supportive, atten
 tive, and can provide useful feedback.\n\nABOUT OUR PRESENTER\nDave Ri
 ni is a social justice speaker and advocate who works with a variety o
 f Boston organizations fighting for equality. He is an award-winning r
 ape prevention speaker for the Boston Area Rape Crisis Center, and an 
 organizer with the Boston chapter of the National Organization of Men 
 Against Sexism, where he hosted two \"Dating While Feminist\" events a
 nd several pro-feminist men's discussion groups. Dave has worked for f
 our years with the Boston University Office of Orientation to design a
 nd execute its public speaking training for summer staff, training ove
 r 400 of them, and also used his public speaking curriculum with BU's 
 Schools of Education and Communication. Dave is currently a law studen
 t at Northeastern University and co-chair of the school's ACLU and Nat
 ional Lawyer's Guild chapters.\n\n*DIRECTIONS: http://bit.ly/tweyZQ\nT
 he NonProfit Center is located one block from South Station at 89 Sout
 h Street. The Center is accessible through the main lobby to people wh
 o have restricted physical abilities.\n\nHELP SPREAD THE WORD!\nJoin t
 he SoJust Facebook group: http://on.fb.me/SoJust\nOn Twitter? Follow @
 SoJust (http://www.twitter.com/sojust), SoJust's Co-Founder @RobbieSam
 uels (http://www.twitter.com/robbiesamuels) and our Assistant Organize
 r @KatyaM11 https://twitter.com/KatyaM11. Don’t forget to tweet abou
 t this event using #sojust!\n\nSOCIALIZING FOR JUSTICE - http://www.so
 just.org\nSince 2006, we've been building this great sandbox where we 
 can bring progressives of all stripes together and try out new ideas i
 n this \"Movement Moment\". Spaces like this are crucial as we start t
 o reframe and build new visions for our movement(s).\n\nWith 2000 memb
 ers and 5 1/2 years of creating a diverse cross-issue community in Bos
 ton (115+ events!), Socializing for Justice is the best place to find 
 the great people, organizations and community you're looking for while
  putting the SOCIAL back in social justice.\n\nYES, WE MEAN YOU. We've
  got members of all ages, races, genders, sexual orientations, levels 
 of activism and professions. We hope you see someone like yourself and
  meet someone you otherwise wouldn't have.\n\nWant to know more about 
 SoJust? Check out our Frequently Asked Questions- http://www.sojust.or
 g/messages/boards/thread/3187615- and past event photos- http://www.so
 just.org/photos/!\n\nFor more information visit http://neighborsfornei
 ghbors.org/events/skillshare-public-speaking
DTSTART:20120402T220000Z
DTEND:20120403T003000Z
CATEGORIES:training, workshop, seminar, skillshare
LOCATION:The NonProfit Center
WEBSITE:http://www.sojust.org
URL:http://www.sojust.org
CONTACT:
ORGANIZER;CN="Socializing for Justice":http://neighborsforneighbors.or
 g/profile/SocializingforJustice71
ATTACH;FMTTYPE="image/jpeg":
ATTENDEE;ROLE=REQ-PARTICIPANT;PARTSTAT=ACCEPTED;RSVP=TRUE;CN="Socializ
 ing for Justice":http://neighborsforneighbors.org/profile/Socializingf
 orJustice71
END:VEVENT
END:VCALENDAR
