BEGIN:VCALENDAR
PRODID:NingEventWidget-v1
VERSION:2.0
METHOD:PUBLISH
BEGIN:VEVENT
UID:1171189:Event:90709
DTSTAMP:20260421T214745Z
SUMMARY:Skillshare: Socially Responsible Investing
DESCRIPTION:Uncertain how to work towards a secure financial future wh
 ile living out your values? Join Socializing for Justice for a Skillsh
 are on Socially Responsible Investing on August 6th, 6:00 - 8:30 PM.So
 Just hosts events that draw progressives of all stripes that share com
 mon values but may work on different issues. We create social spaces t
 hat allow for the possibility of cross-issue connections and run a Ski
 llshare Series, hosted by The NonProfit Center*, which increases our i
 ndividual capacity for movement building.6:00-6:30 Socializing - bring
  your own dinner6:30-8:30 Training and Q & ARSVP at http://www.sojust.
 org - Newcomers always welcomed!Event fee: $10-$20 cash at the door.So
 cially Responsible InvestingHow do we manage our finances to best sust
 ain ourselves and support our vision of a more just economy? This is a
  chance to learn investment basics and discuss financial management wi
 th a local progressive activist and finance professional. No prior kno
 wledge expected: we'll start with fundamentals and definitions. Partic
 ipants should come away with a more intuitive sense of how to use inve
 stments, and ideas about how to research and choose between different 
 financial tools without checking your politics at the door.ABOUT OUR P
 RESENTERJoby Gelbspan is a lifelong progressive activist who has dedic
 ated her career to \"translating finance for activists.\" She holds a 
 Master's in Accounting and an MBA, with financial and management exper
 ience ranging from non-profit organizations to the investment manageme
 nt industry. She has served on several nonprofit Boards and as CFO and
  Financial Consultant for grassroots, progressive organizations. She c
 urrently works for Corporate Accountability International, campaigning
  to change the World Bank's abusive practices.* DIRECTIONS (http://bit
 .ly/ieXreK) - The NonProfit Center is located one block from South Sta
 tion at 89 South Street. The Center is accessible through the main lob
 by to people who have restricted physical abilities.__________________
 _______________________________________Socializing for Justice - http:
 //www.sojust.orgSince 2006, we've been building this great sandbox whe
 re we can bring progressives of all stripes together and try out new i
 deas in this \"Movement Moment\". Spaces like this are crucial as we s
 tart to reframe and build new visions for our movement(s).With over 20
 00 members and almost 6 years of creating a diverse cross-issue commun
 ity in Boston (130+ events!), Socializing for Justice is the best plac
 e to find the great people, organizations and community you're looking
  for while putting the SOCIAL back in social justice.YES, WE MEAN YOU.
  We've got members of all ages, races, genders, sexual orientations, l
 evels of activism and professions. We hope you see someone like yourse
 lf and meet someone you otherwise wouldn't have.Want to know more abou
 t SoJust? Check out our Frequently Asked Questions and past event phot
 os on http://www.sojust.org!Follow us on Twitter: http://twitter.com/s
 ojust and SoJust Co-Founder http://twitter.com/robbiesamuels.\n\nFor m
 ore information visit http://neighborsforneighbors.org/events/skillsha
 re-socially-responsible-investing
DTSTART:20120806T220000Z
DTEND:20120807T003000Z
CATEGORIES:skillshare
LOCATION:The NonProfit Center
WEBSITE:https://maps.google.com/maps?q=non+profit+center+boston&oe=utf
 -8&client=firefox-a&ie=UTF-8&ei=4oIFUNmzLuXM6wHtw5HgCA&ved=0CE4Q_AUoAg
URL:https://maps.google.com/maps?q=non+profit+center+boston&oe=utf-8&c
 lient=firefox-a&ie=UTF-8&ei=4oIFUNmzLuXM6wHtw5HgCA&ved=0CE4Q_AUoAg
CONTACT:
ORGANIZER;CN="Socializing for Justice":http://neighborsforneighbors.or
 g/profile/SocializingforJustice71
ATTACH;FMTTYPE="image/jpeg":http://storage.ning.com/topology/rest/1.0/
 file/get/2245139772?profile=original
ATTENDEE;ROLE=REQ-PARTICIPANT;PARTSTAT=ACCEPTED;RSVP=TRUE;CN="Socializ
 ing for Justice":http://neighborsforneighbors.org/profile/Socializingf
 orJustice71
END:VEVENT
END:VCALENDAR
