BEGIN:VCALENDAR
PRODID:NingEventWidget-v1
VERSION:2.0
METHOD:PUBLISH
BEGIN:VEVENT
UID:1171189:Event:72758
DTSTAMP:20260422T022840Z
SUMMARY:Skillshare: Time Banking in the Time Trade Circle
DESCRIPTION:Looking for an alternative economy? Need a ride to the air
 port, help with your garden or a massage? Join Socializing for Justice
  for a  Skillshare on Time Banking in the Time Trade Circle on June 6
 , 6:00 - 8:30 PM at the NonProfit Center*, 89 South St, Boston.RSVP at
  www.sojust.org - Newcomers always welcomed!Since this is a TTC Orient
 ation, we're waiving our regular skillshare fee.Please donate $2 at th
 e door to cover group expenses.Time banking in the Time Trade Circle (
 TTC)This workshop will talk about time banking - exchanging services b
 ased on time - and tell you all about the Time Trade Circle (TTC), a l
 ocal time bank with 800+ members all over the greater metro-Boston and
  Eastern-Mass area. The workshop will explain how to join if you are i
 nterested, and forms will be available. I'll explain how time banking 
 is different from bartering, how our local Time Trade Circle time bank
  works, what kinds of services people trade, and how members participa
 te through their online account.www.timetradecircle.org\n\nFor more in
 formation visit http://neighborsforneighbors.org/events/skillshare-tim
 e-banking-in-the
DTSTART:20110606T220000Z
DTEND:20110607T003000Z
CATEGORIES:workshop
LOCATION:The NonProfit Center
WEBSITE:http://bit.ly/ieXreK
URL:http://bit.ly/ieXreK
CONTACT:
ORGANIZER;CN="Socializing for Justice":http://neighborsforneighbors.or
 g/profile/SocializingforJustice71
ATTACH;FMTTYPE="image/jpeg":http://storage.ning.com/topology/rest/1.0/
 file/get/2245123046?profile=original
ATTENDEE;ROLE=REQ-PARTICIPANT;PARTSTAT=ACCEPTED;RSVP=TRUE;CN="Socializ
 ing for Justice":http://neighborsforneighbors.org/profile/Socializingf
 orJustice71
END:VEVENT
END:VCALENDAR
