BEGIN:VCALENDAR
PRODID:NingEventWidget-v1
VERSION:2.0
METHOD:PUBLISH
BEGIN:VEVENT
UID:1171189:Event:58543
DTSTAMP:20260421T201738Z
SUMMARY:Skillshare: Time Management
DESCRIPTION:Has the approaching Holiday season got you juggling too ma
 ny things and running out of time? Then come join Socializing for Just
 ice (www.sojust.org) for a Time Management Skillshare on December 6th,
  6:00 - 8:30 PM at GLAD*.\n\nWe're very excited that Hillary Rettig, a
 uthor of The Lifelong Activist: How to Change the World Without Losing
  Your Way, has agreed to facilitate this training. Below is the worksh
 op description:\n\nTime Management\nThis workshop begins with a discus
 sion of how time should be viewed and valued; why one needs to manage 
 it; and how successful people tend to view and use time. Then we move 
 onto the five foundational principles of time management, and contrast
  examples of managed and unmanaged time schedules. We then discuss rig
 ht and wrong ways to use time, lifestyles that support and inhibit suc
 cess, and techniques for budgeting and tracking your time. We also dis
 cuss how to set priorities; how to decide and maintain boundaries; and
  how to “create” time through delegation and other techniques. Fin
 ally, we discuss tips for sticking to your schedule, and dealing with 
 unsupportive people. After the workshop, many participants report bein
 g more productive and less stressed.\n\nSCHEDULE\n6:00-6:30 Socializin
 g - bring your own dinner\n6:30-8:00 Training\n8:00-8:30 Q & A and mor
 e socializing\n\nRSVP at www.sojust.org\nCOST: $5-10 at the door\n\n*I
 MPORTANT DIRECTIONS (so you can easily find us!): Winter Street is one
  block long between Tremont Street (Park St T) and Washington Street (
 Downtown Crossing T). The entrance to GLAD is on Winter Place an alley
 way off Winter Street next to Sovereign Bank. Very limited parking nea
 rby - best to use Boston Common Garage - driving not recommended. GLAD
  is physically accessible - there is a microwave and water cooler.\n\n
 ABOUT OUR PRESENTER\nHillary Rettig is a writer, coach and workshop le
 ader who specializes in helping people:\n1) increase their productivit
 y (especially, writing productivity), and overcome blocks\n2) improve 
 their time use\n3) find jobs, and build more meaningful and satisfying
  careers, and\n4) start and grow businesses.\nHillary has spoken befor
 e hundreds of audiences across the nation in the activist, arts, commu
 nity, small business and corporate realms; and in each realm finds wis
 dom and insight to bring to the others. She has also appeared on natio
 nal and local television and radio programs, and been quoted in many n
 ational and local newspapers.You can read more about her and her work 
 at www.hillaryrettig.com\n\nHope you'll join us for this and future sk
 illshares. Is there a skill you want to learn? Is there one you can of
 fer? Let us know!\n\nYES, WE MEAN YOU. We've got members of all ages, 
 races, genders, sexual orientations, levels of activism and profession
 s. We hope you see someone like yourself and meet someone you otherwis
 e wouldn't have.\n\nWant to connect outside of SoJust events? Members 
 can view and post events, job & volunteer announcements, roommate sear
 ches, etc. on the 'Message Board' at http://www.sojust.org.\n\nFollow 
 us on Twitter: @SoJust and @RobbieSamuels (SoJust's co-founder)\n\nSoc
 ializing for Justice - http://www.sojust.org\nSince 2006, we've been b
 uilding this great sandbox where we can bring progressives of all stri
 pes together and try out new ideas in this \"Movement Moment\". Spaces
  like this are crucial as we start to reframe and build new visions fo
 r our movement(s).\n\nFor more information visit http://neighborsforne
 ighbors.org/events/skillshare-time-management
DTSTART:20101206T230000Z
DTEND:20101207T013000Z
CATEGORIES:meetup, social, skillshare
LOCATION:GLAD (Gay & Lesbian Advocates & Defenders)
WEBSITE:
URL:
CONTACT:
ORGANIZER:Socializing for Justice
ATTACH;FMTTYPE="image/jpeg":http://storage.ning.com/topology/rest/1.0/
 file/get/2245131229?profile=original
ATTENDEE;ROLE=REQ-PARTICIPANT;PARTSTAT=ACCEPTED;RSVP=TRUE;CN="Robin Bz
 ura":http://neighborsforneighbors.org/profile/RobinBzura
END:VEVENT
END:VCALENDAR
