BEGIN:VCALENDAR
PRODID:NingEventWidget-v1
VERSION:2.0
METHOD:PUBLISH
BEGIN:VEVENT
UID:1171189:Event:88830
DTSTAMP:20260421T202118Z
SUMMARY:Socializing for Justice: Occupy Boston
DESCRIPTION:Socializing for Justice is throwing a party for Occupy Bos
 ton!Occupy Boston did not end when they were evicted from Dewey Square
 . Far from it. There are dozens of active working groups and endless e
 vents and actions taking place all around the city. General Assemblies
  are held several times a week and all they're missing is YOU!SoJust i
 s hosting this event so you can connect with this vibrant movement and
  find your place among the many volunteer opportunities. You'll meet m
 embers of several working groups and learn about upcoming actions. Lea
 rn more at www.occupyboston.org.What should you expect? Our usual frie
 ndly and welcoming space where it's easy to meet people even if it's y
 our first SoJust event. Plenty of socializing time to mix, mingle and 
 network with fellow progressives. The opportunity to learn more about 
 Occupy Boston and how you can support their efforts with a donation of
  money, supplies or time.RSVP at http://www.sojust.org - newcomers alw
 ays welcomed!Cost: $5-$20 (sliding scale) collected at the door for Oc
 cupy BostonRaffle ticket for every $10 donated - win a $25 iTunes gift
  card!Complimentary appetizers will be available.Socializing for Justi
 ce is all about building a cross-cultural, cross-issue progressive com
 munity and network in Boston based on the philosophy of abundance. We'
 re doing it by putting the SOCIAL back in SOCIAL JUSTICE. We focus on 
 creating welcoming spaces that foster relationship-building across iss
 ue silos. Join us if you are ready to go BEYOND ALLIES and build a CRO
 SS-ISSUE PROGRESSIVE MOVEMENT.ACCESSIBILITY: Must be 21+ to enter afte
 r 7PM. The venue is physically accessible - elevator is at the back of
  the venue and bathrooms are big enough for manual, but not motor-powe
 red, wheelchairs.PARKING: Lir is across from the Hynes Convention Cent
 er. Parking near Lir is really hard - you could get lucky or you could
  drive around for 30 or more minutes. There are parking garages by Bac
 k Bay station. Best bet is to take the T to Back Bay or Hynes Conventi
 on Center (which is the closest T stop).HELP SPREAD THE WORD!Join the 
 SoJust Facebook group: http://on.fb.me/SoJustOn Twitter? Follow @SoJus
 t (http://www.twitter.com/sojust), SoJust's Co-Founder @RobbieSamuels 
 (http://www.twitter.com/robbiesamuels) and our Assistant Organizer @Ka
 tyaM11 (@KatyaM11 (https://twitter.com/KatyaM11). Don’t forget to tw
 eet about this event using #sojust!SOCIALIZING FOR JUSTICE - http://ww
 w.sojust.orgSoJust is all about building a cross-cultural, cross-issue
  progressive community, network and movement in Boston. We're doing it
  by putting the SOCIAL back in SOCIAL JUSTICE. We focus on creating we
 lcoming spaces that foster relationship-building across issue silos.So
 Just isn't a non-profit 501(c)(3) and receives no outside funding. We'
 re a grassroots volunteer-run member-supported cross-issue progressive
  community that's been growing steadily since August 2006. We have alm
 ost 2,000 members, we have hosted 110+ events and we manage an online 
 hub of progressive events and resources at www.sojust.org. If you've b
 enefited from this cross-issue progressive network please contribute t
 he suggested annual membership fee of $25. You may do this at http://w
 ww.sojust.org/dues/, or at any of our events. Thank you for helping us
  continue to provide a space for like-minded progressives of all strip
 es.Want to know more about SoJust? Check out our Frequently Asked Ques
 tions- http://www.sojust.org/messages/boards/thread/3187615- and past 
 event photos- http://www.sojust.org/photos/!\n\nFor more information v
 isit http://neighborsforneighbors.org/events/socializing-for-justice-o
 ccupy-boston
DTSTART:20120314T220000Z
DTEND:20120315T010000Z
CATEGORIES:training, workshop, seminar
LOCATION:Lir Irish Pub & Restaurant
WEBSITE:http://www.sojust.org
URL:http://www.sojust.org
CONTACT:
ORGANIZER;CN="Socializing for Justice":http://neighborsforneighbors.or
 g/profile/SocializingforJustice71
ATTACH;FMTTYPE="image/jpeg":http://storage.ning.com/topology/rest/1.0/
 file/get/2245138156?profile=original
ATTENDEE;ROLE=REQ-PARTICIPANT;PARTSTAT=ACCEPTED;RSVP=TRUE;CN="Socializ
 ing for Justice":http://neighborsforneighbors.org/profile/Socializingf
 orJustice71
END:VEVENT
END:VCALENDAR
