BEGIN:VCALENDAR
PRODID:NingEventWidget-v1
VERSION:2.0
METHOD:PUBLISH
BEGIN:VEVENT
UID:1171189:Event:106820
DTSTAMP:20260421T202031Z
SUMMARY:SoJust: Games for Justice
DESCRIPTION:Need a break from the stress of work, the economy, and eve
 ryday life? Looking for something to do that is fun, cheap, and progre
 ssive? Join us for Games for Justice on March 22 from 3-6pm at Panera 
 Bread! Arrive by yourself or bring a friend.\nRSVP at www.sojust.org -
  Newcomers always welcomed!\nFee: $2 per person + food\nLocation: 115 
 Stuart St, Boston map\n\nScrabble, Apples to Apples, Scattegories - wh
 at's your favorite board game? Bring it!\nLook no further if you're se
 eking like-minded folks to game with, want to cross-promote your event
 s and campaigns while you Boggle, or are new to the area and looking f
 or groups to get involved in. If you want to build a strong cross-issu
 e social justice movement, SoJust is for you!\nPanera Bread offers a w
 ide variety of sandwiches, salads, baked goods and beverages (with fre
 e refills!). Check out their menu.\n__________________________________
 _______________________\nSOCIALIZING FOR JUSTICE - www.sojust.org\nSoJ
 ust is all about building a cross-cultural, cross-issue progressive co
 mmunity, network and movement in Boston based on the philosophy of abu
 ndance. We're doing it by putting the SOCIAL back in SOCIAL JUSTICE. W
 e focus on creating welcoming spaces that foster relationship-building
  across issue silos.\nSoJust isn't a non-profit 501(c)(3). We're a gra
 ssroots, volunteer-run, member-supported, cross-cultural, cross-issue 
 progressive community that's been growing steadily since August 2006. 
 We have 2400+ members, hosted 175+ events and manage an online hub of 
 progressive events and resources at www.sojust.org. If you've benefite
 d from this cross-issue progressive network, please contribute the sug
 gested annual membership fee of $25. You may do this online or at any 
 of our events. Thank you for helping us continue to provide a space fo
 r like-minded progressives of all stripes.\nWant to know more about So
 Just? Check out our Frequently Asked Questions and past event photos!\
 n\nFor more information visit http://neighborsforneighbors.org/events/
 sojust-games-for-justice
DTSTART:20140322T190000Z
DTEND:20140322T220000Z
CATEGORIES:social, meetup, community
LOCATION:Panera Bread
WEBSITE:https://maps.google.com/maps?f=q&hl=en&q=115+Stuart+St,+Boston
 ,+MA,+US
URL:https://maps.google.com/maps?f=q&hl=en&q=115+Stuart+St,+Boston,+MA
 ,+US
CONTACT:
ORGANIZER;CN="Socializing for Justice":http://neighborsforneighbors.or
 g/profile/SocializingforJustice71
ATTACH;FMTTYPE="image/jpeg":http://storage.ning.com/topology/rest/1.0/
 file/get/2245142238?profile=original
ATTENDEE;ROLE=REQ-PARTICIPANT;PARTSTAT=ACCEPTED;RSVP=TRUE;CN="Socializ
 ing for Justice":http://neighborsforneighbors.org/profile/Socializingf
 orJustice71
END:VEVENT
END:VCALENDAR
