BEGIN:VCALENDAR
PRODID:NingEventWidget-v1
VERSION:2.0
METHOD:PUBLISH
BEGIN:VEVENT
UID:1171189:Event:107809
DTSTAMP:20260421T203208Z
SUMMARY:SoJust ProfDev: Art of the Schmooze
DESCRIPTION:Do you often get stuck in conversations? Not know how to a
 pproach people at networking events? Join Socializing for Justice for 
 a fast-paced, fun & interactive ProfDev on the Art of the Schmooze on 
 Monday, May 5 6:00 - 8:30 PM.\n\nFee: $10 in advance/$20 at the door i
 s split with the trainer.\nLimited space - Register at www.sojust.org 
 - Newcomers always welcomed!\nCredit cards accepted online. Cash only 
 at the door (if space available).\n\nSoJust's Co-Founder, Robbie Samue
 ls, who is well known for his schmoozing skills, is this month's train
 er.\n\nArt of the Schmooze\nForming and cultivating relationships is a
 t the heart of any successful fundraising campaign, volunteer drive, c
 ommittee effort or community building activity. This training will giv
 e you the confidence to pursue your personal goals - from the importan
 ce of shaking hands and making eye contact, to tips on the best openin
 g line and how to exit a conversation gracefully. An amazing side bene
 fit is that you'll learn how to create a welcoming community space by 
 keeping an eye out for outliers, considering yourself a host instead o
 f a guest and knowing how to compliment someone without \"othering\" t
 hem.\n\nABOUT OUR PRESENTER\nRobbie Samuels has extensive community or
 ganizing, events logistics and fundraising experience. In 2006 he co-f
 ounded Socializing for Justice to build a cross-cultural, cross-issue 
 progressive community, network and movement in Boston based on the phi
 losophy of abundance. He is the Senior Manager of Events and Donor Eng
 agement at Gay & Lesbian Advocates & Defenders (GLAD). On the side he 
 offers trainings and consultation to non-profit boards, venture capita
 lists and grassroots organizers. In 2011, Boston City Council named hi
 s birthday, September 16, \"Robbie Samuels Day\". Learn more about his
  trainings, including: Art of the Schmooze, Fundraising: Getting Past 
 the Fear of Asking, Suicide Prevention Training for Community Leaders,
  at www.robbiesamuels.com.\n\nCheck out his testimonials\n\nSCHEDULE\n
 6:00-6:30 Socializing - bring your own dinner\n6:30-8:30 Training and 
 Q & A\n\nDIRECTIONS \n\n_____________________________________________
 _____\nSocializing for Justice - www.sojust.org\nWith almost 2500 memb
 ers and 7 years of creating a diverse cross-issue community in Boston 
 (170+ events!), Socializing for Justice is the best place to find the 
 great people, organizations and community you're looking for while put
 ting the SOCIAL back in social justice.\n\nFor more information visit 
 http://neighborsforneighbors.org/events/sojust-profdev-art-of-the-schm
 ooze
DTSTART:20140505T220000Z
DTEND:20140506T010000Z
CATEGORIES:workshop
LOCATION:NonProfit Center
WEBSITE:
URL:
CONTACT:
ORGANIZER;CN="Socializing for Justice":http://neighborsforneighbors.or
 g/profile/SocializingforJustice71
ATTACH;FMTTYPE="image/jpeg":http://storage.ning.com/topology/rest/1.0/
 file/get/2245142957?profile=original
ATTENDEE;ROLE=REQ-PARTICIPANT;PARTSTAT=ACCEPTED;RSVP=TRUE;CN="Socializ
 ing for Justice":http://neighborsforneighbors.org/profile/Socializingf
 orJustice71
END:VEVENT
END:VCALENDAR
