BEGIN:VCALENDAR
PRODID:NingEventWidget-v1
VERSION:2.0
METHOD:PUBLISH
BEGIN:VEVENT
UID:1171189:Event:91217
DTSTAMP:20260422T050145Z
SUMMARY:Sokolow Now! in Black & White -- Sept. 15, 2012
DESCRIPTION:SOKOLOW NOW! in BLACK & WHITE: an evening of three works c
 reated by Anna Sokolow; presented by the Sokolow Dance Foundation. Sat
 urday, September 15, 8pm. Tickets: $22 general admission, $18 for stud
 ents/seniors/BDA members. For advance tickets call 1-800-838-3006 or v
 isit www.brownpapertickets.com/event/264121. Tickets also available fo
 r purchase at the box office by calling 617-358-2500 (open Wed.-Fri., 
 2-6 pm, and one hour before the show).   Sokolow Now! is a performing 
 archival dance company dedicated to providing audiences with an opport
 unity to experience the powerful choreography of internationally renow
 ned choreographer Anna Sokolow. This yearâ€™s annual dance concert, en
 titled Black & White, is comprised of three works created by Sokolow i
 n the 1980â€™s.  The first work, Everything Must Go, is Sokolowâ€™s co
 mmentary on American society. Themes of strong minimal movement, set a
 gainst intricate spatial patterns, tell stories of severe poverty, bla
 tant consumerism, and public indifference to their neighborâ€™s plight
 .  Inspired by the music of Russian composer Sergei Rachmaninoff, Soko
 low used his piano preludes to choreograph the second work on the prog
 ram, Homage to Rachmaninoff. Sokolowâ€™s lyrical imagery brings this p
 assionate music to life, creating the perfect homage to the last of th
 e great romantic composers.  The program closes with From the Diaries 
 of Franz Kafka, a major theatrical dance work. Typical of this dance-t
 heater genre, for which Sokolow is internationally celebrated, From th
 e Diaries of Franz Kafka marries text, imagery and music to convey the
  struggles of this major 20th century writer.  Members of Sokolow Now!
  performing in the 2012 annual concert are Amy Burns, Adrienne Crombie
 , John Crampton, Suellen Haag, Mark Kranz, Haley Kenney, Tabitha Liver
 sidge, Kirsten McKinney, Mat Tucker and Mallory Walker.  The Sokolow D
 ance Foundation, based in Attleboro, MA, was established in 2003 by Lo
 rry May who is the leading reconstructor of Anna Sokolowâ€™s choreogra
 phy. The foundationâ€™s diverse educational and cultural programs, lec
 tures, classes and performances serve as major platforms for the conti
 nuation of Sokolowâ€™s legacy. Sokolow Now!, the foundationâ€™s profes
 sional dance company, travels extensively throughout the east coast pr
 esenting theatrical performances, giving lecture/demonstrations, and p
 articipating in the many dance festival held within the Boston-area.\n
  \"Anna [Sokolow] proved that social dance forms have an inherent dram
 atic power when\nthey are artfully used as an expression of the societ
 y that created them.\" (Clive Barnes, New York Times)\n Sokolow Now! i
 s the only dance company exclusively performing the repertory of the c
 elebrated choreographer Anna Sokolow. Their passion for the work is ev
 ident in their stunning, unparalleled theatrical stagings of Sokolowâ€
 ™s original choreography. More information on the company and the foun
 dation can be found at www.annasokolow.org.\n\nFor more information vi
 sit http://neighborsforneighbors.org/events/sokolow-now-in-black-white
 -sept-15-2012
DTSTART:20120916T000000Z
DTEND:20120916T020000Z
CATEGORIES:dance, modern, contemporary
LOCATION:Boston University Dance Theater
WEBSITE:http://www.brownpapertickets.com/event/264121
URL:http://www.brownpapertickets.com/event/264121
CONTACT:1-800-838-3006
ORGANIZER:Sokolow Dance Foundation
ATTACH;FMTTYPE="image/jpeg":http://storage.ning.com/topology/rest/1.0/
 file/get/2245145932?profile=original
ATTENDEE;ROLE=REQ-PARTICIPANT;PARTSTAT=ACCEPTED;RSVP=TRUE;CN="Mary Cur
 tin":http://neighborsforneighbors.org/profile/MaryCurtin
END:VEVENT
END:VCALENDAR
