BEGIN:VCALENDAR
PRODID:NingEventWidget-v1
VERSION:2.0
METHOD:PUBLISH
BEGIN:VEVENT
UID:1171189:Event:104526
DTSTAMP:20260421T222810Z
SUMMARY:Solar Energy Workshop- Save with Solar!
DESCRIPTION:The City of Boston has partnered with home energy soluti
 ons provider Next Step Living for this community initiative. Renew B
 oston Solarize is designed to bring competitively priced solar PV to h
 omeowners in Boston. Whether you want to purchase a solar system or ar
 e interested in a Power Purchase Agreement, Renew Boston Solarize prov
 ides rates that are affordable and a streamlined process for going sol
 ar. Boston homeowners that sign a contract for solar with Next Step Li
 ving by November 30, 2013 qualify for bulk pricing that drops as more 
 people “solarize”.\nhttp://www.renewboston.org/2013/08/26/solarize
 -boston-workshop-schedule/\nThurs. November 7, 20136:00pm – 7:30pm64
 6 E. BroadwaySouth Boston LibrarySo. Boston, MA 02127\n\nFor more info
 rmation visit http://neighborsforneighbors.org/events/solar-energy-wor
 kshop-save-with-solar
DTSTART:20131108T000000Z
DTEND:20131108T013000Z
CATEGORIES:solar, energy, workshop
LOCATION:South Boston LIbrary
WEBSITE:
URL:
CONTACT:
ORGANIZER;CN="Janna Cohen-Rosenthal":http://neighborsforneighbors.org/
 profile/J
ATTACH;FMTTYPE="image/jpeg":http://storage.ning.com/topology/rest/1.0/
 file/get/2245141758?profile=original
ATTENDEE;ROLE=REQ-PARTICIPANT;PARTSTAT=ACCEPTED;RSVP=TRUE;CN="Janna Co
 hen-Rosenthal":http://neighborsforneighbors.org/profile/J
END:VEVENT
END:VCALENDAR
