BEGIN:VCALENDAR
PRODID:NingEventWidget-v1
VERSION:2.0
METHOD:PUBLISH
BEGIN:VEVENT
UID:1171189:Event:93042
DTSTAMP:20260421T204641Z
SUMMARY:Southwest Corridor Park - PARKLAND MANAGEMENT ADVISORY COMMITT
 EE SPECIAL MEETING
DESCRIPTION:Southwest Corridor Park\nPARKLAND MANAGEMENT ADVISORY COMM
 ITTEE SPECIAL MEETING: February 6, 2013, 7 p.m.\nExciting opportunitie
 s for the new acre of parkland: Connection with the Emerald Necklace, 
 public art, and … What are your ideas?\nCommunity review of the new 
 parkland at Forest Hills\nWednesday, February 6, 2013\n3347 Washington
  St., Jamaica Plain | Boston E-13 Police Station\n\nFor more informati
 on visit http://neighborsforneighbors.org/events/southwest-corridor-pa
 rk-parkland-management-advisory-committee
DTSTART:20130207T000000Z
DTEND:20130207T020000Z
CATEGORIES:"community meeting"
LOCATION:Boston E-13 Police Station
WEBSITE:
URL:
CONTACT:
ORGANIZER:PMAC and DCR
ATTACH;FMTTYPE="image/jpeg":
ATTENDEE;ROLE=REQ-PARTICIPANT;PARTSTAT=ACCEPTED;RSVP=TRUE;CN="Jennifer
  Leonard":http://neighborsforneighbors.org/profile/JenniferLeonard639
END:VEVENT
END:VCALENDAR
